BEGIN:VCALENDAR
VERSION:2.0
PRODID:https://www.kufer.de/kuferweb / DE
METHOD:PUBLISH
CALSCALE:GREGORIAN
X-WR-TIMEZONE:Europe/Berlin
BEGIN:VTIMEZONE
TZID:Europe/Berlin
X-LIC-LOCATION:Europe/Berlin
BEGIN:DAYLIGHT
TZOFFSETFROM:+0100
TZOFFSETTO:+0200
TZNAME:CEST
DTSTART:19700329T020000
RRULE:FREQ=YEARLY;INTERVAL=1;BYDAY=-1SU;BYMONTH=3
END:DAYLIGHT
BEGIN:STANDARD
TZOFFSETFROM:+0200
TZOFFSETTO:+0100
TZNAME:CET
DTSTART:19701025T030000
RRULE:FREQ=YEARLY;INTERVAL=1;BYDAY=-1SU;BYMONTH=10
END:STANDARD
END:VTIMEZONE
BEGIN:VEVENT
DTSTAMP:20260424T214119
DTSTART;TZID=Europe/Berlin:20260206T163000
DTEND;TZID=Europe/Berlin:20260206T180000
UID:261G613012-20260206T163000@VHSNEUSS
SUMMARY:Qi Gong am Freitag Nachmittag (261G613012) 
LOCATION:Romaneum, Raum 1.18, Brückstr. 1, 41460 Neuss
END:VEVENT
BEGIN:VEVENT
DTSTAMP:20260424T214119
DTSTART;TZID=Europe/Berlin:20260213T163000
DTEND;TZID=Europe/Berlin:20260213T180000
UID:261G613012-20260213T163000@VHSNEUSS
SUMMARY:Qi Gong am Freitag Nachmittag (261G613012) 
LOCATION:Romaneum, Raum 1.18, Brückstr. 1, 41460 Neuss
END:VEVENT
BEGIN:VEVENT
DTSTAMP:20260424T214119
DTSTART;TZID=Europe/Berlin:20260220T163000
DTEND;TZID=Europe/Berlin:20260220T180000
UID:261G613012-20260220T163000@VHSNEUSS
SUMMARY:Qi Gong am Freitag Nachmittag (261G613012) 
LOCATION:Romaneum, Raum 1.18, Brückstr. 1, 41460 Neuss
END:VEVENT
BEGIN:VEVENT
DTSTAMP:20260424T214119
DTSTART;TZID=Europe/Berlin:20260227T163000
DTEND;TZID=Europe/Berlin:20260227T180000
UID:261G613012-20260227T163000@VHSNEUSS
SUMMARY:Qi Gong am Freitag Nachmittag (261G613012) 
LOCATION:Romaneum, Raum 1.18, Brückstr. 1, 41460 Neuss
END:VEVENT
BEGIN:VEVENT
DTSTAMP:20260424T214119
DTSTART;TZID=Europe/Berlin:20260306T163000
DTEND;TZID=Europe/Berlin:20260306T180000
UID:261G613012-20260306T163000@VHSNEUSS
SUMMARY:Qi Gong am Freitag Nachmittag (261G613012) 
LOCATION:Romaneum, Raum 1.18, Brückstr. 1, 41460 Neuss
END:VEVENT
BEGIN:VEVENT
DTSTAMP:20260424T214119
DTSTART;TZID=Europe/Berlin:20260313T163000
DTEND;TZID=Europe/Berlin:20260313T180000
UID:261G613012-20260313T163000@VHSNEUSS
SUMMARY:Qi Gong am Freitag Nachmittag (261G613012) 
LOCATION:Romaneum, Raum 1.18, Brückstr. 1, 41460 Neuss
END:VEVENT
BEGIN:VEVENT
DTSTAMP:20260424T214119
DTSTART;TZID=Europe/Berlin:20260320T163000
DTEND;TZID=Europe/Berlin:20260320T180000
UID:261G613012-20260320T163000@VHSNEUSS
SUMMARY:Qi Gong am Freitag Nachmittag (261G613012) 
LOCATION:Romaneum, Raum 1.18, Brückstr. 1, 41460 Neuss
END:VEVENT
BEGIN:VEVENT
DTSTAMP:20260424T214119
DTSTART;TZID=Europe/Berlin:20260327T163000
DTEND;TZID=Europe/Berlin:20260327T180000
UID:261G613012-20260327T163000@VHSNEUSS
SUMMARY:Qi Gong am Freitag Nachmittag (261G613012) 
LOCATION:Romaneum, Raum 1.18, Brückstr. 1, 41460 Neuss
END:VEVENT
BEGIN:VEVENT
DTSTAMP:20260424T214119
DTSTART;TZID=Europe/Berlin:20260417T163000
DTEND;TZID=Europe/Berlin:20260417T180000
UID:261G613012-20260417T163000@VHSNEUSS
SUMMARY:Qi Gong am Freitag Nachmittag (261G613012) 
LOCATION:Romaneum, Raum 1.18, Brückstr. 1, 41460 Neuss
END:VEVENT
BEGIN:VEVENT
DTSTAMP:20260424T214119
DTSTART;TZID=Europe/Berlin:20260424T163000
DTEND;TZID=Europe/Berlin:20260424T180000
UID:261G613012-20260424T163000@VHSNEUSS
SUMMARY:Qi Gong am Freitag Nachmittag (261G613012) 
LOCATION:Romaneum, Raum 1.18, Brückstr. 1, 41460 Neuss
END:VEVENT
BEGIN:VEVENT
DTSTAMP:20260424T214119
DTSTART;TZID=Europe/Berlin:20260508T163000
DTEND;TZID=Europe/Berlin:20260508T180000
UID:261G613012-20260508T163000@VHSNEUSS
SUMMARY:Qi Gong am Freitag Nachmittag (261G613012) 
LOCATION:Romaneum, Raum 1.18, Brückstr. 1, 41460 Neuss
END:VEVENT
BEGIN:VEVENT
DTSTAMP:20260424T214119
DTSTART;TZID=Europe/Berlin:20260522T163000
DTEND;TZID=Europe/Berlin:20260522T180000
UID:261G613012-20260522T163000@VHSNEUSS
SUMMARY:Qi Gong am Freitag Nachmittag (261G613012) 
LOCATION:Romaneum, Raum 1.18, Brückstr. 1, 41460 Neuss
END:VEVENT
BEGIN:VEVENT
DTSTAMP:20260424T214119
DTSTART;TZID=Europe/Berlin:20260529T163000
DTEND;TZID=Europe/Berlin:20260529T180000
UID:261G613012-20260529T163000@VHSNEUSS
SUMMARY:Qi Gong am Freitag Nachmittag (261G613012) 
LOCATION:Romaneum, Raum 1.18, Brückstr. 1, 41460 Neuss
END:VEVENT
BEGIN:VEVENT
DTSTAMP:20260424T214119
DTSTART;TZID=Europe/Berlin:20260605T163000
DTEND;TZID=Europe/Berlin:20260605T180000
UID:261G613012-20260605T163000@VHSNEUSS
SUMMARY:Qi Gong am Freitag Nachmittag (261G613012) 
LOCATION:Romaneum, Raum 1.18, Brückstr. 1, 41460 Neuss
END:VEVENT
BEGIN:VEVENT
DTSTAMP:20260424T214119
DTSTART;TZID=Europe/Berlin:20260612T163000
DTEND;TZID=Europe/Berlin:20260612T180000
UID:261G613012-20260612T163000@VHSNEUSS
DESCRIPTION:Ersatz für Ausfall am 15.05.2026
SUMMARY:Qi Gong am Freitag Nachmittag (261G613012) 
LOCATION:Romaneum, Raum 1.18, Brückstr. 1, 41460 Neuss
END:VEVENT
END:VCALENDAR