BEGIN:VCALENDAR
VERSION:2.0
PRODID:https://www.kufer.de/kuferweb / DE
METHOD:PUBLISH
CALSCALE:GREGORIAN
X-WR-TIMEZONE:Europe/Berlin
BEGIN:VTIMEZONE
TZID:Europe/Berlin
X-LIC-LOCATION:Europe/Berlin
BEGIN:DAYLIGHT
TZOFFSETFROM:+0100
TZOFFSETTO:+0200
TZNAME:CEST
DTSTART:19700329T020000
RRULE:FREQ=YEARLY;INTERVAL=1;BYDAY=-1SU;BYMONTH=3
END:DAYLIGHT
BEGIN:STANDARD
TZOFFSETFROM:+0200
TZOFFSETTO:+0100
TZNAME:CET
DTSTART:19701025T030000
RRULE:FREQ=YEARLY;INTERVAL=1;BYDAY=-1SU;BYMONTH=10
END:STANDARD
END:VTIMEZONE
BEGIN:VEVENT
DTSTAMP:20260424T214459
DTSTART;TZID=Europe/Berlin:20260219T161500
DTEND;TZID=Europe/Berlin:20260219T174500
UID:261G613037-20260219T161500@VHSNEUSS
SUMMARY:Tai Chi Chuan für Einsteiger*innen (261G613037) 
LOCATION:Romaneum, Raum 2.17, Brückstr. 1, 41460 Neuss
END:VEVENT
BEGIN:VEVENT
DTSTAMP:20260424T214459
DTSTART;TZID=Europe/Berlin:20260226T161500
DTEND;TZID=Europe/Berlin:20260226T174500
UID:261G613037-20260226T161500@VHSNEUSS
SUMMARY:Tai Chi Chuan für Einsteiger*innen (261G613037) 
LOCATION:Romaneum, Raum 2.17, Brückstr. 1, 41460 Neuss
END:VEVENT
BEGIN:VEVENT
DTSTAMP:20260424T214459
DTSTART;TZID=Europe/Berlin:20260305T161500
DTEND;TZID=Europe/Berlin:20260305T174500
UID:261G613037-20260305T161500@VHSNEUSS
SUMMARY:Tai Chi Chuan für Einsteiger*innen (261G613037) 
LOCATION:Romaneum, Raum 2.17, Brückstr. 1, 41460 Neuss
END:VEVENT
BEGIN:VEVENT
DTSTAMP:20260424T214459
DTSTART;TZID=Europe/Berlin:20260312T161500
DTEND;TZID=Europe/Berlin:20260312T174500
UID:261G613037-20260312T161500@VHSNEUSS
SUMMARY:Tai Chi Chuan für Einsteiger*innen (261G613037) 
LOCATION:Romaneum, Raum 2.17, Brückstr. 1, 41460 Neuss
END:VEVENT
BEGIN:VEVENT
DTSTAMP:20260424T214459
DTSTART;TZID=Europe/Berlin:20260319T161500
DTEND;TZID=Europe/Berlin:20260319T174500
UID:261G613037-20260319T161500@VHSNEUSS
SUMMARY:Tai Chi Chuan für Einsteiger*innen (261G613037) 
LOCATION:Romaneum, Raum 2.17, Brückstr. 1, 41460 Neuss
END:VEVENT
BEGIN:VEVENT
DTSTAMP:20260424T214459
DTSTART;TZID=Europe/Berlin:20260326T161500
DTEND;TZID=Europe/Berlin:20260326T174500
UID:261G613037-20260326T161500@VHSNEUSS
SUMMARY:Tai Chi Chuan für Einsteiger*innen (261G613037) 
LOCATION:Romaneum, Raum 2.17, Brückstr. 1, 41460 Neuss
END:VEVENT
BEGIN:VEVENT
DTSTAMP:20260424T214459
DTSTART;TZID=Europe/Berlin:20260416T161500
DTEND;TZID=Europe/Berlin:20260416T174500
UID:261G613037-20260416T161500@VHSNEUSS
SUMMARY:Tai Chi Chuan für Einsteiger*innen (261G613037) 
LOCATION:Romaneum, Raum 2.17, Brückstr. 1, 41460 Neuss
END:VEVENT
BEGIN:VEVENT
DTSTAMP:20260424T214459
DTSTART;TZID=Europe/Berlin:20260423T161500
DTEND;TZID=Europe/Berlin:20260423T174500
UID:261G613037-20260423T161500@VHSNEUSS
SUMMARY:Tai Chi Chuan für Einsteiger*innen (261G613037) 
LOCATION:Romaneum, Raum 2.17, Brückstr. 1, 41460 Neuss
END:VEVENT
BEGIN:VEVENT
DTSTAMP:20260424T214459
DTSTART;TZID=Europe/Berlin:20260430T161500
DTEND;TZID=Europe/Berlin:20260430T174500
UID:261G613037-20260430T161500@VHSNEUSS
SUMMARY:Tai Chi Chuan für Einsteiger*innen (261G613037) 
LOCATION:Romaneum, Raum 2.17, Brückstr. 1, 41460 Neuss
END:VEVENT
BEGIN:VEVENT
DTSTAMP:20260424T214459
DTSTART;TZID=Europe/Berlin:20260507T161500
DTEND;TZID=Europe/Berlin:20260507T174500
UID:261G613037-20260507T161500@VHSNEUSS
SUMMARY:Tai Chi Chuan für Einsteiger*innen (261G613037) 
LOCATION:Romaneum, Raum 2.17, Brückstr. 1, 41460 Neuss
END:VEVENT
END:VCALENDAR