BEGIN:VCALENDAR
VERSION:2.0
PRODID:https://www.kufer.de/kuferweb / DE
METHOD:PUBLISH
CALSCALE:GREGORIAN
X-WR-TIMEZONE:Europe/Berlin
BEGIN:VTIMEZONE
TZID:Europe/Berlin
X-LIC-LOCATION:Europe/Berlin
BEGIN:DAYLIGHT
TZOFFSETFROM:+0100
TZOFFSETTO:+0200
TZNAME:CEST
DTSTART:19700329T020000
RRULE:FREQ=YEARLY;INTERVAL=1;BYDAY=-1SU;BYMONTH=3
END:DAYLIGHT
BEGIN:STANDARD
TZOFFSETFROM:+0200
TZOFFSETTO:+0100
TZNAME:CET
DTSTART:19701025T030000
RRULE:FREQ=YEARLY;INTERVAL=1;BYDAY=-1SU;BYMONTH=10
END:STANDARD
END:VTIMEZONE
BEGIN:VEVENT
DTSTAMP:20260423T201555
DTSTART;TZID=Europe/Berlin:20260203T194000
DTEND;TZID=Europe/Berlin:20260203T204000
UID:261S03150-20260203T194000@VHSNEUSS
DESCRIPTION:VHS Cloud
SUMMARY:Online: Spanisch A1 (261S03150) 
LOCATION:Virtueller Raum - Online Kurs
END:VEVENT
BEGIN:VEVENT
DTSTAMP:20260423T201555
DTSTART;TZID=Europe/Berlin:20260210T194000
DTEND;TZID=Europe/Berlin:20260210T204000
UID:261S03150-20260210T194000@VHSNEUSS
DESCRIPTION:VHS Cloud
SUMMARY:Online: Spanisch A1 (261S03150) 
LOCATION:Virtueller Raum - Online Kurs
END:VEVENT
BEGIN:VEVENT
DTSTAMP:20260423T201555
DTSTART;TZID=Europe/Berlin:20260224T194000
DTEND;TZID=Europe/Berlin:20260224T204000
UID:261S03150-20260224T194000@VHSNEUSS
DESCRIPTION:VHS Cloud
SUMMARY:Online: Spanisch A1 (261S03150) 
LOCATION:Virtueller Raum - Online Kurs
END:VEVENT
BEGIN:VEVENT
DTSTAMP:20260423T201555
DTSTART;TZID=Europe/Berlin:20260303T194000
DTEND;TZID=Europe/Berlin:20260303T204000
UID:261S03150-20260303T194000@VHSNEUSS
DESCRIPTION:VHS Cloud
SUMMARY:Online: Spanisch A1 (261S03150) 
LOCATION:Virtueller Raum - Online Kurs
END:VEVENT
BEGIN:VEVENT
DTSTAMP:20260423T201555
DTSTART;TZID=Europe/Berlin:20260310T194000
DTEND;TZID=Europe/Berlin:20260310T204000
UID:261S03150-20260310T194000@VHSNEUSS
DESCRIPTION:VHS Cloud
SUMMARY:Online: Spanisch A1 (261S03150) 
LOCATION:Virtueller Raum - Online Kurs
END:VEVENT
BEGIN:VEVENT
DTSTAMP:20260423T201555
DTSTART;TZID=Europe/Berlin:20260317T194000
DTEND;TZID=Europe/Berlin:20260317T204000
UID:261S03150-20260317T194000@VHSNEUSS
DESCRIPTION:VHS Cloud
SUMMARY:Online: Spanisch A1 (261S03150) 
LOCATION:Virtueller Raum - Online Kurs
END:VEVENT
BEGIN:VEVENT
DTSTAMP:20260423T201555
DTSTART;TZID=Europe/Berlin:20260324T194000
DTEND;TZID=Europe/Berlin:20260324T204000
UID:261S03150-20260324T194000@VHSNEUSS
DESCRIPTION:VHS Cloud
SUMMARY:Online: Spanisch A1 (261S03150) 
LOCATION:Virtueller Raum - Online Kurs
END:VEVENT
BEGIN:VEVENT
DTSTAMP:20260423T201555
DTSTART;TZID=Europe/Berlin:20260414T194000
DTEND;TZID=Europe/Berlin:20260414T204000
UID:261S03150-20260414T194000@VHSNEUSS
DESCRIPTION:VHS Cloud
SUMMARY:Online: Spanisch A1 (261S03150) 
LOCATION:Virtueller Raum - Online Kurs
END:VEVENT
BEGIN:VEVENT
DTSTAMP:20260423T201555
DTSTART;TZID=Europe/Berlin:20260421T194000
DTEND;TZID=Europe/Berlin:20260421T204000
UID:261S03150-20260421T194000@VHSNEUSS
DESCRIPTION:VHS Cloud
SUMMARY:Online: Spanisch A1 (261S03150) 
LOCATION:Virtueller Raum - Online Kurs
END:VEVENT
BEGIN:VEVENT
DTSTAMP:20260423T201555
DTSTART;TZID=Europe/Berlin:20260428T194000
DTEND;TZID=Europe/Berlin:20260428T204000
UID:261S03150-20260428T194000@VHSNEUSS
DESCRIPTION:VHS Cloud
SUMMARY:Online: Spanisch A1 (261S03150) 
LOCATION:Virtueller Raum - Online Kurs
END:VEVENT
BEGIN:VEVENT
DTSTAMP:20260423T201555
DTSTART;TZID=Europe/Berlin:20260505T194000
DTEND;TZID=Europe/Berlin:20260505T204000
UID:261S03150-20260505T194000@VHSNEUSS
DESCRIPTION:VHS Cloud
SUMMARY:Online: Spanisch A1 (261S03150) 
LOCATION:Virtueller Raum - Online Kurs
END:VEVENT
BEGIN:VEVENT
DTSTAMP:20260423T201555
DTSTART;TZID=Europe/Berlin:20260512T194000
DTEND;TZID=Europe/Berlin:20260512T204000
UID:261S03150-20260512T194000@VHSNEUSS
DESCRIPTION:VHS Cloud
SUMMARY:Online: Spanisch A1 (261S03150) 
LOCATION:Virtueller Raum - Online Kurs
END:VEVENT
BEGIN:VEVENT
DTSTAMP:20260423T201555
DTSTART;TZID=Europe/Berlin:20260519T194000
DTEND;TZID=Europe/Berlin:20260519T202500
UID:261S03150-20260519T194000@VHSNEUSS
DESCRIPTION:VHS Cloud
SUMMARY:Online: Spanisch A1 (261S03150) 
LOCATION:Virtueller Raum - Online Kurs
END:VEVENT
END:VCALENDAR