BEGIN:VCALENDAR
VERSION:2.0
PRODID:https://www.kufer.de/kuferweb / DE
METHOD:PUBLISH
CALSCALE:GREGORIAN
X-WR-TIMEZONE:Europe/Berlin
BEGIN:VTIMEZONE
TZID:Europe/Berlin
X-LIC-LOCATION:Europe/Berlin
BEGIN:DAYLIGHT
TZOFFSETFROM:+0100
TZOFFSETTO:+0200
TZNAME:CEST
DTSTART:19700329T020000
RRULE:FREQ=YEARLY;INTERVAL=1;BYDAY=-1SU;BYMONTH=3
END:DAYLIGHT
BEGIN:STANDARD
TZOFFSETFROM:+0200
TZOFFSETTO:+0100
TZNAME:CET
DTSTART:19701025T030000
RRULE:FREQ=YEARLY;INTERVAL=1;BYDAY=-1SU;BYMONTH=10
END:STANDARD
END:VTIMEZONE
BEGIN:VEVENT
DTSTAMP:20260423T201641
DTSTART;TZID=Europe/Berlin:20260202T164500
DTEND;TZID=Europe/Berlin:20260202T181500
UID:261S04121-20260202T164500@VHSNEUSS
SUMMARY:Italienisch A1 (261S04121) 
LOCATION:Romaneum, Raum 2.09, Brückstr. 1, 41460 Neuss
END:VEVENT
BEGIN:VEVENT
DTSTAMP:20260423T201641
DTSTART;TZID=Europe/Berlin:20260209T164500
DTEND;TZID=Europe/Berlin:20260209T181500
UID:261S04121-20260209T164500@VHSNEUSS
SUMMARY:Italienisch A1 (261S04121) 
LOCATION:Romaneum, Raum 2.09, Brückstr. 1, 41460 Neuss
END:VEVENT
BEGIN:VEVENT
DTSTAMP:20260423T201641
DTSTART;TZID=Europe/Berlin:20260223T164500
DTEND;TZID=Europe/Berlin:20260223T181500
UID:261S04121-20260223T164500@VHSNEUSS
SUMMARY:Italienisch A1 (261S04121) 
LOCATION:Romaneum, Raum 2.09, Brückstr. 1, 41460 Neuss
END:VEVENT
BEGIN:VEVENT
DTSTAMP:20260423T201641
DTSTART;TZID=Europe/Berlin:20260302T164500
DTEND;TZID=Europe/Berlin:20260302T181500
UID:261S04121-20260302T164500@VHSNEUSS
SUMMARY:Italienisch A1 (261S04121) 
LOCATION:Romaneum, Raum 2.09, Brückstr. 1, 41460 Neuss
END:VEVENT
BEGIN:VEVENT
DTSTAMP:20260423T201641
DTSTART;TZID=Europe/Berlin:20260309T164500
DTEND;TZID=Europe/Berlin:20260309T181500
UID:261S04121-20260309T164500@VHSNEUSS
SUMMARY:Italienisch A1 (261S04121) 
LOCATION:Romaneum, Raum 2.09, Brückstr. 1, 41460 Neuss
END:VEVENT
BEGIN:VEVENT
DTSTAMP:20260423T201641
DTSTART;TZID=Europe/Berlin:20260316T164500
DTEND;TZID=Europe/Berlin:20260316T181500
UID:261S04121-20260316T164500@VHSNEUSS
SUMMARY:Italienisch A1 (261S04121) 
LOCATION:Romaneum, Raum 2.09, Brückstr. 1, 41460 Neuss
END:VEVENT
BEGIN:VEVENT
DTSTAMP:20260423T201641
DTSTART;TZID=Europe/Berlin:20260323T164500
DTEND;TZID=Europe/Berlin:20260323T181500
UID:261S04121-20260323T164500@VHSNEUSS
SUMMARY:Italienisch A1 (261S04121) 
LOCATION:Romaneum, Raum 2.09, Brückstr. 1, 41460 Neuss
END:VEVENT
BEGIN:VEVENT
DTSTAMP:20260423T201641
DTSTART;TZID=Europe/Berlin:20260413T164500
DTEND;TZID=Europe/Berlin:20260413T181500
UID:261S04121-20260413T164500@VHSNEUSS
SUMMARY:Italienisch A1 (261S04121) 
LOCATION:Romaneum, Raum 2.09, Brückstr. 1, 41460 Neuss
END:VEVENT
BEGIN:VEVENT
DTSTAMP:20260423T201641
DTSTART;TZID=Europe/Berlin:20260420T164500
DTEND;TZID=Europe/Berlin:20260420T181500
UID:261S04121-20260420T164500@VHSNEUSS
SUMMARY:Italienisch A1 (261S04121) 
LOCATION:Romaneum, Raum 2.09, Brückstr. 1, 41460 Neuss
END:VEVENT
BEGIN:VEVENT
DTSTAMP:20260423T201641
DTSTART;TZID=Europe/Berlin:20260427T164500
DTEND;TZID=Europe/Berlin:20260427T181500
UID:261S04121-20260427T164500@VHSNEUSS
SUMMARY:Italienisch A1 (261S04121) 
LOCATION:Romaneum, Raum 2.09, Brückstr. 1, 41460 Neuss
END:VEVENT
BEGIN:VEVENT
DTSTAMP:20260423T201641
DTSTART;TZID=Europe/Berlin:20260504T164500
DTEND;TZID=Europe/Berlin:20260504T181500
UID:261S04121-20260504T164500@VHSNEUSS
SUMMARY:Italienisch A1 (261S04121) 
LOCATION:Romaneum, Raum 2.09, Brückstr. 1, 41460 Neuss
END:VEVENT
BEGIN:VEVENT
DTSTAMP:20260423T201641
DTSTART;TZID=Europe/Berlin:20260511T164500
DTEND;TZID=Europe/Berlin:20260511T181500
UID:261S04121-20260511T164500@VHSNEUSS
SUMMARY:Italienisch A1 (261S04121) 
LOCATION:Romaneum, Raum 2.09, Brückstr. 1, 41460 Neuss
END:VEVENT
BEGIN:VEVENT
DTSTAMP:20260423T201641
DTSTART;TZID=Europe/Berlin:20260518T164500
DTEND;TZID=Europe/Berlin:20260518T181500
UID:261S04121-20260518T164500@VHSNEUSS
SUMMARY:Italienisch A1 (261S04121) 
LOCATION:Romaneum, Raum 2.09, Brückstr. 1, 41460 Neuss
END:VEVENT
END:VCALENDAR