BEGIN:VCALENDAR
VERSION:2.0
PRODID:https://www.kufer.de/kuferweb / DE
METHOD:PUBLISH
CALSCALE:GREGORIAN
X-WR-TIMEZONE:Europe/Berlin
BEGIN:VTIMEZONE
TZID:Europe/Berlin
X-LIC-LOCATION:Europe/Berlin
BEGIN:DAYLIGHT
TZOFFSETFROM:+0100
TZOFFSETTO:+0200
TZNAME:CEST
DTSTART:19700329T020000
RRULE:FREQ=YEARLY;INTERVAL=1;BYDAY=-1SU;BYMONTH=3
END:DAYLIGHT
BEGIN:STANDARD
TZOFFSETFROM:+0200
TZOFFSETTO:+0100
TZNAME:CET
DTSTART:19701025T030000
RRULE:FREQ=YEARLY;INTERVAL=1;BYDAY=-1SU;BYMONTH=10
END:STANDARD
END:VTIMEZONE
BEGIN:VEVENT
DTSTAMP:20260423T201559
DTSTART;TZID=Europe/Berlin:20260202T160000
DTEND;TZID=Europe/Berlin:20260202T173000
UID:261S10140-20260202T160000@VHSNEUSS
DESCRIPTION:ZOOM
SUMMARY:Schwedisch A1 (261S10140) 
LOCATION:Virtueller Raum - Online Kurs
END:VEVENT
BEGIN:VEVENT
DTSTAMP:20260423T201559
DTSTART;TZID=Europe/Berlin:20260209T160000
DTEND;TZID=Europe/Berlin:20260209T173000
UID:261S10140-20260209T160000@VHSNEUSS
DESCRIPTION:ZOOM
SUMMARY:Schwedisch A1 (261S10140) 
LOCATION:Virtueller Raum - Online Kurs
END:VEVENT
BEGIN:VEVENT
DTSTAMP:20260423T201559
DTSTART;TZID=Europe/Berlin:20260216T160000
DTEND;TZID=Europe/Berlin:20260216T173000
UID:261S10140-20260216T160000@VHSNEUSS
DESCRIPTION:Zusatz im Nachgang 17.02.26 (*SH)
SUMMARY:Schwedisch A1 (261S10140) 
LOCATION:Virtueller Raum - Online Kurs
END:VEVENT
BEGIN:VEVENT
DTSTAMP:20260423T201559
DTSTART;TZID=Europe/Berlin:20260302T160000
DTEND;TZID=Europe/Berlin:20260302T173000
UID:261S10140-20260302T160000@VHSNEUSS
DESCRIPTION:ZOOM
SUMMARY:Schwedisch A1 (261S10140) 
LOCATION:Virtueller Raum - Online Kurs
END:VEVENT
BEGIN:VEVENT
DTSTAMP:20260423T201559
DTSTART;TZID=Europe/Berlin:20260309T160000
DTEND;TZID=Europe/Berlin:20260309T173000
UID:261S10140-20260309T160000@VHSNEUSS
DESCRIPTION:ZOOM
SUMMARY:Schwedisch A1 (261S10140) 
LOCATION:Virtueller Raum - Online Kurs
END:VEVENT
BEGIN:VEVENT
DTSTAMP:20260423T201559
DTSTART;TZID=Europe/Berlin:20260323T160000
DTEND;TZID=Europe/Berlin:20260323T173000
UID:261S10140-20260323T160000@VHSNEUSS
DESCRIPTION:ZOOM
SUMMARY:Schwedisch A1 (261S10140) 
LOCATION:Virtueller Raum - Online Kurs
END:VEVENT
BEGIN:VEVENT
DTSTAMP:20260423T201559
DTSTART;TZID=Europe/Berlin:20260413T160000
DTEND;TZID=Europe/Berlin:20260413T173000
UID:261S10140-20260413T160000@VHSNEUSS
DESCRIPTION:ZOOM
SUMMARY:Schwedisch A1 (261S10140) 
LOCATION:Virtueller Raum - Online Kurs
END:VEVENT
BEGIN:VEVENT
DTSTAMP:20260423T201559
DTSTART;TZID=Europe/Berlin:20260427T160000
DTEND;TZID=Europe/Berlin:20260427T173000
UID:261S10140-20260427T160000@VHSNEUSS
DESCRIPTION:ZOOM
SUMMARY:Schwedisch A1 (261S10140) 
LOCATION:Virtueller Raum - Online Kurs
END:VEVENT
BEGIN:VEVENT
DTSTAMP:20260423T201559
DTSTART;TZID=Europe/Berlin:20260504T160000
DTEND;TZID=Europe/Berlin:20260504T173000
UID:261S10140-20260504T160000@VHSNEUSS
DESCRIPTION:ZOOM
SUMMARY:Schwedisch A1 (261S10140) 
LOCATION:Virtueller Raum - Online Kurs
END:VEVENT
BEGIN:VEVENT
DTSTAMP:20260423T201559
DTSTART;TZID=Europe/Berlin:20260511T160000
DTEND;TZID=Europe/Berlin:20260511T173000
UID:261S10140-20260511T160000@VHSNEUSS
DESCRIPTION:ZOOM
SUMMARY:Schwedisch A1 (261S10140) 
LOCATION:Virtueller Raum - Online Kurs
END:VEVENT
BEGIN:VEVENT
DTSTAMP:20260423T201559
DTSTART;TZID=Europe/Berlin:20260518T160000
DTEND;TZID=Europe/Berlin:20260518T173000
UID:261S10140-20260518T160000@VHSNEUSS
DESCRIPTION:ZOOM
SUMMARY:Schwedisch A1 (261S10140) 
LOCATION:Virtueller Raum - Online Kurs
END:VEVENT
BEGIN:VEVENT
DTSTAMP:20260423T201559
DTSTART;TZID=Europe/Berlin:20260601T160000
DTEND;TZID=Europe/Berlin:20260601T173000
UID:261S10140-20260601T160000@VHSNEUSS
DESCRIPTION:ZOOM
SUMMARY:Schwedisch A1 (261S10140) 
LOCATION:Virtueller Raum - Online Kurs
END:VEVENT
BEGIN:VEVENT
DTSTAMP:20260423T201559
DTSTART;TZID=Europe/Berlin:20260608T160000
DTEND;TZID=Europe/Berlin:20260608T173000
UID:261S10140-20260608T160000@VHSNEUSS
DESCRIPTION:ZOOM 25.02.26 (*SH): doch wieder Nachholtag für Ausfall am 23.02.2026
SUMMARY:Schwedisch A1 (261S10140) 
LOCATION:Virtueller Raum - Online Kurs
END:VEVENT
BEGIN:VEVENT
DTSTAMP:20260423T201559
DTSTART;TZID=Europe/Berlin:20260615T160000
DTEND;TZID=Europe/Berlin:20260615T173000
UID:261S10140-20260615T160000@VHSNEUSS
DESCRIPTION:ZOOM Nachholtag für 16.03.2026
SUMMARY:Schwedisch A1 (261S10140) 
LOCATION:Virtueller Raum - Online Kurs
END:VEVENT
BEGIN:VEVENT
DTSTAMP:20260423T201559
DTSTART;TZID=Europe/Berlin:20260622T160000
DTEND;TZID=Europe/Berlin:20260622T173000
UID:261S10140-20260622T160000@VHSNEUSS
DESCRIPTION:Nachholtag für 20.04.2026 lt. Dozmail, 14.04.26 (*SH)
SUMMARY:Schwedisch A1 (261S10140) 
LOCATION:Virtueller Raum - Online Kurs
END:VEVENT
END:VCALENDAR