BEGIN:VCALENDAR
VERSION:2.0
PRODID:https://www.kufer.de/kuferweb / DE
METHOD:PUBLISH
CALSCALE:GREGORIAN
X-WR-TIMEZONE:Europe/Berlin
BEGIN:VTIMEZONE
TZID:Europe/Berlin
X-LIC-LOCATION:Europe/Berlin
BEGIN:DAYLIGHT
TZOFFSETFROM:+0100
TZOFFSETTO:+0200
TZNAME:CEST
DTSTART:19700329T020000
RRULE:FREQ=YEARLY;INTERVAL=1;BYDAY=-1SU;BYMONTH=3
END:DAYLIGHT
BEGIN:STANDARD
TZOFFSETFROM:+0200
TZOFFSETTO:+0100
TZNAME:CET
DTSTART:19701025T030000
RRULE:FREQ=YEARLY;INTERVAL=1;BYDAY=-1SU;BYMONTH=10
END:STANDARD
END:VTIMEZONE
BEGIN:VEVENT
DTSTAMP:20260423T201622
DTSTART;TZID=Europe/Berlin:20260202T180000
DTEND;TZID=Europe/Berlin:20260202T193000
UID:261S10150-20260202T180000@VHSNEUSS
DESCRIPTION:ZOOM
SUMMARY:Online: Schwedisch A1 (261S10150) 
LOCATION:Virtueller Raum - Online Kurs
END:VEVENT
BEGIN:VEVENT
DTSTAMP:20260423T201622
DTSTART;TZID=Europe/Berlin:20260209T180000
DTEND;TZID=Europe/Berlin:20260209T193000
UID:261S10150-20260209T180000@VHSNEUSS
DESCRIPTION:ZOOM
SUMMARY:Online: Schwedisch A1 (261S10150) 
LOCATION:Virtueller Raum - Online Kurs
END:VEVENT
BEGIN:VEVENT
DTSTAMP:20260423T201622
DTSTART;TZID=Europe/Berlin:20260216T180000
DTEND;TZID=Europe/Berlin:20260216T193000
UID:261S10150-20260216T180000@VHSNEUSS
DESCRIPTION:im Nachgang : Unterricht fand statt 17.02.26 (*SH)
SUMMARY:Online: Schwedisch A1 (261S10150) 
LOCATION:Virtueller Raum - Online Kurs
END:VEVENT
BEGIN:VEVENT
DTSTAMP:20260423T201622
DTSTART;TZID=Europe/Berlin:20260302T180000
DTEND;TZID=Europe/Berlin:20260302T193000
UID:261S10150-20260302T180000@VHSNEUSS
DESCRIPTION:ZOOM
SUMMARY:Online: Schwedisch A1 (261S10150) 
LOCATION:Virtueller Raum - Online Kurs
END:VEVENT
BEGIN:VEVENT
DTSTAMP:20260423T201622
DTSTART;TZID=Europe/Berlin:20260309T180000
DTEND;TZID=Europe/Berlin:20260309T193000
UID:261S10150-20260309T180000@VHSNEUSS
DESCRIPTION:ZOOM
SUMMARY:Online: Schwedisch A1 (261S10150) 
LOCATION:Virtueller Raum - Online Kurs
END:VEVENT
BEGIN:VEVENT
DTSTAMP:20260423T201622
DTSTART;TZID=Europe/Berlin:20260323T180000
DTEND;TZID=Europe/Berlin:20260323T193000
UID:261S10150-20260323T180000@VHSNEUSS
DESCRIPTION:ZOOM
SUMMARY:Online: Schwedisch A1 (261S10150) 
LOCATION:Virtueller Raum - Online Kurs
END:VEVENT
BEGIN:VEVENT
DTSTAMP:20260423T201622
DTSTART;TZID=Europe/Berlin:20260413T180000
DTEND;TZID=Europe/Berlin:20260413T193000
UID:261S10150-20260413T180000@VHSNEUSS
DESCRIPTION:ZOOM
SUMMARY:Online: Schwedisch A1 (261S10150) 
LOCATION:Virtueller Raum - Online Kurs
END:VEVENT
BEGIN:VEVENT
DTSTAMP:20260423T201622
DTSTART;TZID=Europe/Berlin:20260427T180000
DTEND;TZID=Europe/Berlin:20260427T193000
UID:261S10150-20260427T180000@VHSNEUSS
DESCRIPTION:ZOOM
SUMMARY:Online: Schwedisch A1 (261S10150) 
LOCATION:Virtueller Raum - Online Kurs
END:VEVENT
BEGIN:VEVENT
DTSTAMP:20260423T201622
DTSTART;TZID=Europe/Berlin:20260504T180000
DTEND;TZID=Europe/Berlin:20260504T193000
UID:261S10150-20260504T180000@VHSNEUSS
DESCRIPTION:ZOOM
SUMMARY:Online: Schwedisch A1 (261S10150) 
LOCATION:Virtueller Raum - Online Kurs
END:VEVENT
BEGIN:VEVENT
DTSTAMP:20260423T201622
DTSTART;TZID=Europe/Berlin:20260511T180000
DTEND;TZID=Europe/Berlin:20260511T193000
UID:261S10150-20260511T180000@VHSNEUSS
DESCRIPTION:ZOOM
SUMMARY:Online: Schwedisch A1 (261S10150) 
LOCATION:Virtueller Raum - Online Kurs
END:VEVENT
BEGIN:VEVENT
DTSTAMP:20260423T201622
DTSTART;TZID=Europe/Berlin:20260518T180000
DTEND;TZID=Europe/Berlin:20260518T193000
UID:261S10150-20260518T180000@VHSNEUSS
DESCRIPTION:ZOOM
SUMMARY:Online: Schwedisch A1 (261S10150) 
LOCATION:Virtueller Raum - Online Kurs
END:VEVENT
BEGIN:VEVENT
DTSTAMP:20260423T201622
DTSTART;TZID=Europe/Berlin:20260601T180000
DTEND;TZID=Europe/Berlin:20260601T193000
UID:261S10150-20260601T180000@VHSNEUSS
DESCRIPTION:ZOOM
SUMMARY:Online: Schwedisch A1 (261S10150) 
LOCATION:Virtueller Raum - Online Kurs
END:VEVENT
BEGIN:VEVENT
DTSTAMP:20260423T201622
DTSTART;TZID=Europe/Berlin:20260608T180000
DTEND;TZID=Europe/Berlin:20260608T193000
UID:261S10150-20260608T180000@VHSNEUSS
DESCRIPTION:25.02.26 (*SH): doch wieder Nachholtag für Ausfall am 23.02.2026 ZOOM
SUMMARY:Online: Schwedisch A1 (261S10150) 
LOCATION:Virtueller Raum - Online Kurs
END:VEVENT
BEGIN:VEVENT
DTSTAMP:20260423T201622
DTSTART;TZID=Europe/Berlin:20260615T180000
DTEND;TZID=Europe/Berlin:20260615T193000
UID:261S10150-20260615T180000@VHSNEUSS
DESCRIPTION:ZOOM Nachholtag für 16.03.2026
SUMMARY:Online: Schwedisch A1 (261S10150) 
LOCATION:Virtueller Raum - Online Kurs
END:VEVENT
BEGIN:VEVENT
DTSTAMP:20260423T201622
DTSTART;TZID=Europe/Berlin:20260622T180000
DTEND;TZID=Europe/Berlin:20260622T193000
UID:261S10150-20260622T180000@VHSNEUSS
DESCRIPTION:Nachholtag für 20.04.2026 lt. mail Doz, 14.04.26 (*SH)
SUMMARY:Online: Schwedisch A1 (261S10150) 
LOCATION:Virtueller Raum - Online Kurs
END:VEVENT
END:VCALENDAR