BEGIN:VCALENDAR
VERSION:2.0
PRODID:https://www.kufer.de/kuferweb / DE
METHOD:PUBLISH
CALSCALE:GREGORIAN
X-WR-TIMEZONE:Europe/Berlin
BEGIN:VTIMEZONE
TZID:Europe/Berlin
X-LIC-LOCATION:Europe/Berlin
BEGIN:DAYLIGHT
TZOFFSETFROM:+0100
TZOFFSETTO:+0200
TZNAME:CEST
DTSTART:19700329T020000
RRULE:FREQ=YEARLY;INTERVAL=1;BYDAY=-1SU;BYMONTH=3
END:DAYLIGHT
BEGIN:STANDARD
TZOFFSETFROM:+0200
TZOFFSETTO:+0100
TZNAME:CET
DTSTART:19701025T030000
RRULE:FREQ=YEARLY;INTERVAL=1;BYDAY=-1SU;BYMONTH=10
END:STANDARD
END:VTIMEZONE
BEGIN:VEVENT
DTSTAMP:20260423T235303
DTSTART;TZID=Europe/Berlin:20260211T194500
DTEND;TZID=Europe/Berlin:20260211T211500
UID:261S10160-20260211T194500@VHSNEUSS
DESCRIPTION:ZOOM
SUMMARY:Online: Schwedisch A1 (261S10160) 
LOCATION:Virtueller Raum - Online Kurs
END:VEVENT
BEGIN:VEVENT
DTSTAMP:20260423T235303
DTSTART;TZID=Europe/Berlin:20260218T194500
DTEND;TZID=Europe/Berlin:20260218T211500
UID:261S10160-20260218T194500@VHSNEUSS
DESCRIPTION:ZOOM
SUMMARY:Online: Schwedisch A1 (261S10160) 
LOCATION:Virtueller Raum - Online Kurs
END:VEVENT
BEGIN:VEVENT
DTSTAMP:20260423T235303
DTSTART;TZID=Europe/Berlin:20260225T194500
DTEND;TZID=Europe/Berlin:20260225T211500
UID:261S10160-20260225T194500@VHSNEUSS
DESCRIPTION:ZOOM
SUMMARY:Online: Schwedisch A1 (261S10160) 
LOCATION:Virtueller Raum - Online Kurs
END:VEVENT
BEGIN:VEVENT
DTSTAMP:20260423T235303
DTSTART;TZID=Europe/Berlin:20260304T194500
DTEND;TZID=Europe/Berlin:20260304T211500
UID:261S10160-20260304T194500@VHSNEUSS
DESCRIPTION:ZOOM
SUMMARY:Online: Schwedisch A1 (261S10160) 
LOCATION:Virtueller Raum - Online Kurs
END:VEVENT
BEGIN:VEVENT
DTSTAMP:20260423T235303
DTSTART;TZID=Europe/Berlin:20260311T194500
DTEND;TZID=Europe/Berlin:20260311T211500
UID:261S10160-20260311T194500@VHSNEUSS
DESCRIPTION:ZOOM
SUMMARY:Online: Schwedisch A1 (261S10160) 
LOCATION:Virtueller Raum - Online Kurs
END:VEVENT
BEGIN:VEVENT
DTSTAMP:20260423T235303
DTSTART;TZID=Europe/Berlin:20260318T194500
DTEND;TZID=Europe/Berlin:20260318T211500
UID:261S10160-20260318T194500@VHSNEUSS
DESCRIPTION:ZOOM
SUMMARY:Online: Schwedisch A1 (261S10160) 
LOCATION:Virtueller Raum - Online Kurs
END:VEVENT
BEGIN:VEVENT
DTSTAMP:20260423T235303
DTSTART;TZID=Europe/Berlin:20260325T194500
DTEND;TZID=Europe/Berlin:20260325T211500
UID:261S10160-20260325T194500@VHSNEUSS
DESCRIPTION:ZOOM
SUMMARY:Online: Schwedisch A1 (261S10160) 
LOCATION:Virtueller Raum - Online Kurs
END:VEVENT
BEGIN:VEVENT
DTSTAMP:20260423T235303
DTSTART;TZID=Europe/Berlin:20260415T194500
DTEND;TZID=Europe/Berlin:20260415T211500
UID:261S10160-20260415T194500@VHSNEUSS
DESCRIPTION:ZOOM
SUMMARY:Online: Schwedisch A1 (261S10160) 
LOCATION:Virtueller Raum - Online Kurs
END:VEVENT
BEGIN:VEVENT
DTSTAMP:20260423T235303
DTSTART;TZID=Europe/Berlin:20260422T194500
DTEND;TZID=Europe/Berlin:20260422T211500
UID:261S10160-20260422T194500@VHSNEUSS
DESCRIPTION:ZOOM
SUMMARY:Online: Schwedisch A1 (261S10160) 
LOCATION:Virtueller Raum - Online Kurs
END:VEVENT
BEGIN:VEVENT
DTSTAMP:20260423T235303
DTSTART;TZID=Europe/Berlin:20260429T194500
DTEND;TZID=Europe/Berlin:20260429T211500
UID:261S10160-20260429T194500@VHSNEUSS
DESCRIPTION:ZOOM
SUMMARY:Online: Schwedisch A1 (261S10160) 
LOCATION:Virtueller Raum - Online Kurs
END:VEVENT
BEGIN:VEVENT
DTSTAMP:20260423T235303
DTSTART;TZID=Europe/Berlin:20260506T194500
DTEND;TZID=Europe/Berlin:20260506T211500
UID:261S10160-20260506T194500@VHSNEUSS
DESCRIPTION:ZOOM
SUMMARY:Online: Schwedisch A1 (261S10160) 
LOCATION:Virtueller Raum - Online Kurs
END:VEVENT
BEGIN:VEVENT
DTSTAMP:20260423T235303
DTSTART;TZID=Europe/Berlin:20260513T194500
DTEND;TZID=Europe/Berlin:20260513T211500
UID:261S10160-20260513T194500@VHSNEUSS
DESCRIPTION:ZOOM
SUMMARY:Online: Schwedisch A1 (261S10160) 
LOCATION:Virtueller Raum - Online Kurs
END:VEVENT
BEGIN:VEVENT
DTSTAMP:20260423T235303
DTSTART;TZID=Europe/Berlin:20260520T194500
DTEND;TZID=Europe/Berlin:20260520T211500
UID:261S10160-20260520T194500@VHSNEUSS
DESCRIPTION:ZOOM
SUMMARY:Online: Schwedisch A1 (261S10160) 
LOCATION:Virtueller Raum - Online Kurs
END:VEVENT
BEGIN:VEVENT
DTSTAMP:20260423T235303
DTSTART;TZID=Europe/Berlin:20260527T194500
DTEND;TZID=Europe/Berlin:20260527T211500
UID:261S10160-20260527T194500@VHSNEUSS
DESCRIPTION:ZOOM
SUMMARY:Online: Schwedisch A1 (261S10160) 
LOCATION:Virtueller Raum - Online Kurs
END:VEVENT
BEGIN:VEVENT
DTSTAMP:20260423T235303
DTSTART;TZID=Europe/Berlin:20260603T194500
DTEND;TZID=Europe/Berlin:20260603T211500
UID:261S10160-20260603T194500@VHSNEUSS
DESCRIPTION:doch Nachholtag für 08.04.2026 , 14.04.26 (*SH) Ausfall geplanter Nachholtag für späteren Beginn lt. mail Doz. 27.02.26 (*SH)
SUMMARY:Online: Schwedisch A1 (261S10160) 
LOCATION:Virtueller Raum - Online Kurs
END:VEVENT
END:VCALENDAR