BEGIN:VCALENDAR
VERSION:2.0
PRODID:https://www.kufer.de/kuferweb / DE
METHOD:PUBLISH
CALSCALE:GREGORIAN
X-WR-TIMEZONE:Europe/Berlin
BEGIN:VTIMEZONE
TZID:Europe/Berlin
X-LIC-LOCATION:Europe/Berlin
BEGIN:DAYLIGHT
TZOFFSETFROM:+0100
TZOFFSETTO:+0200
TZNAME:CEST
DTSTART:19700329T020000
RRULE:FREQ=YEARLY;INTERVAL=1;BYDAY=-1SU;BYMONTH=3
END:DAYLIGHT
BEGIN:STANDARD
TZOFFSETFROM:+0200
TZOFFSETTO:+0100
TZNAME:CET
DTSTART:19701025T030000
RRULE:FREQ=YEARLY;INTERVAL=1;BYDAY=-1SU;BYMONTH=10
END:STANDARD
END:VTIMEZONE
BEGIN:VEVENT
DTSTAMP:20260420T174924
DTSTART;TZID=Europe/Berlin:20260601T083000
DTEND;TZID=Europe/Berlin:20260601T124500
UID:261S5062-20260601T083000@VHSNEUSS
SUMMARY:Integrationskurs Basis 2 - Niveau A1.2 (261S5062) 
LOCATION:Romaneum, Raum E.27, Brückstr. 1, 41460 Neuss
END:VEVENT
BEGIN:VEVENT
DTSTAMP:20260420T174924
DTSTART;TZID=Europe/Berlin:20260602T083000
DTEND;TZID=Europe/Berlin:20260602T124500
UID:261S5062-20260602T083000@VHSNEUSS
SUMMARY:Integrationskurs Basis 2 - Niveau A1.2 (261S5062) 
LOCATION:Romaneum, Raum E.27, Brückstr. 1, 41460 Neuss
END:VEVENT
BEGIN:VEVENT
DTSTAMP:20260420T174924
DTSTART;TZID=Europe/Berlin:20260603T083000
DTEND;TZID=Europe/Berlin:20260603T124500
UID:261S5062-20260603T083000@VHSNEUSS
SUMMARY:Integrationskurs Basis 2 - Niveau A1.2 (261S5062) 
LOCATION:Romaneum, Raum E.27, Brückstr. 1, 41460 Neuss
END:VEVENT
BEGIN:VEVENT
DTSTAMP:20260420T174924
DTSTART;TZID=Europe/Berlin:20260605T083000
DTEND;TZID=Europe/Berlin:20260605T124500
UID:261S5062-20260605T083000@VHSNEUSS
SUMMARY:Integrationskurs Basis 2 - Niveau A1.2 (261S5062) 
LOCATION:Romaneum, Raum E.27, Brückstr. 1, 41460 Neuss
END:VEVENT
BEGIN:VEVENT
DTSTAMP:20260420T174924
DTSTART;TZID=Europe/Berlin:20260608T083000
DTEND;TZID=Europe/Berlin:20260608T124500
UID:261S5062-20260608T083000@VHSNEUSS
SUMMARY:Integrationskurs Basis 2 - Niveau A1.2 (261S5062) 
LOCATION:Romaneum, Raum E.27, Brückstr. 1, 41460 Neuss
END:VEVENT
BEGIN:VEVENT
DTSTAMP:20260420T174924
DTSTART;TZID=Europe/Berlin:20260609T083000
DTEND;TZID=Europe/Berlin:20260609T124500
UID:261S5062-20260609T083000@VHSNEUSS
SUMMARY:Integrationskurs Basis 2 - Niveau A1.2 (261S5062) 
LOCATION:Romaneum, Raum E.27, Brückstr. 1, 41460 Neuss
END:VEVENT
BEGIN:VEVENT
DTSTAMP:20260420T174924
DTSTART;TZID=Europe/Berlin:20260610T083000
DTEND;TZID=Europe/Berlin:20260610T124500
UID:261S5062-20260610T083000@VHSNEUSS
SUMMARY:Integrationskurs Basis 2 - Niveau A1.2 (261S5062) 
LOCATION:Romaneum, Raum E.27, Brückstr. 1, 41460 Neuss
END:VEVENT
BEGIN:VEVENT
DTSTAMP:20260420T174924
DTSTART;TZID=Europe/Berlin:20260612T083000
DTEND;TZID=Europe/Berlin:20260612T124500
UID:261S5062-20260612T083000@VHSNEUSS
SUMMARY:Integrationskurs Basis 2 - Niveau A1.2 (261S5062) 
LOCATION:Romaneum, Raum E.27, Brückstr. 1, 41460 Neuss
END:VEVENT
BEGIN:VEVENT
DTSTAMP:20260420T174924
DTSTART;TZID=Europe/Berlin:20260615T083000
DTEND;TZID=Europe/Berlin:20260615T124500
UID:261S5062-20260615T083000@VHSNEUSS
SUMMARY:Integrationskurs Basis 2 - Niveau A1.2 (261S5062) 
LOCATION:Romaneum, Raum E.27, Brückstr. 1, 41460 Neuss
END:VEVENT
BEGIN:VEVENT
DTSTAMP:20260420T174924
DTSTART;TZID=Europe/Berlin:20260616T083000
DTEND;TZID=Europe/Berlin:20260616T124500
UID:261S5062-20260616T083000@VHSNEUSS
SUMMARY:Integrationskurs Basis 2 - Niveau A1.2 (261S5062) 
LOCATION:Romaneum, Raum E.27, Brückstr. 1, 41460 Neuss
END:VEVENT
BEGIN:VEVENT
DTSTAMP:20260420T174924
DTSTART;TZID=Europe/Berlin:20260617T083000
DTEND;TZID=Europe/Berlin:20260617T124500
UID:261S5062-20260617T083000@VHSNEUSS
SUMMARY:Integrationskurs Basis 2 - Niveau A1.2 (261S5062) 
LOCATION:Romaneum, Raum E.27, Brückstr. 1, 41460 Neuss
END:VEVENT
BEGIN:VEVENT
DTSTAMP:20260420T174924
DTSTART;TZID=Europe/Berlin:20260619T083000
DTEND;TZID=Europe/Berlin:20260619T124500
UID:261S5062-20260619T083000@VHSNEUSS
SUMMARY:Integrationskurs Basis 2 - Niveau A1.2 (261S5062) 
LOCATION:Romaneum, Raum E.27, Brückstr. 1, 41460 Neuss
END:VEVENT
BEGIN:VEVENT
DTSTAMP:20260420T174924
DTSTART;TZID=Europe/Berlin:20260622T083000
DTEND;TZID=Europe/Berlin:20260622T124500
UID:261S5062-20260622T083000@VHSNEUSS
SUMMARY:Integrationskurs Basis 2 - Niveau A1.2 (261S5062) 
LOCATION:Romaneum, Raum E.27, Brückstr. 1, 41460 Neuss
END:VEVENT
BEGIN:VEVENT
DTSTAMP:20260420T174924
DTSTART;TZID=Europe/Berlin:20260623T083000
DTEND;TZID=Europe/Berlin:20260623T124500
UID:261S5062-20260623T083000@VHSNEUSS
SUMMARY:Integrationskurs Basis 2 - Niveau A1.2 (261S5062) 
LOCATION:Romaneum, Raum E.27, Brückstr. 1, 41460 Neuss
END:VEVENT
BEGIN:VEVENT
DTSTAMP:20260420T174924
DTSTART;TZID=Europe/Berlin:20260624T083000
DTEND;TZID=Europe/Berlin:20260624T124500
UID:261S5062-20260624T083000@VHSNEUSS
SUMMARY:Integrationskurs Basis 2 - Niveau A1.2 (261S5062) 
LOCATION:Romaneum, Raum E.27, Brückstr. 1, 41460 Neuss
END:VEVENT
BEGIN:VEVENT
DTSTAMP:20260420T174924
DTSTART;TZID=Europe/Berlin:20260626T083000
DTEND;TZID=Europe/Berlin:20260626T124500
UID:261S5062-20260626T083000@VHSNEUSS
SUMMARY:Integrationskurs Basis 2 - Niveau A1.2 (261S5062) 
LOCATION:Romaneum, Raum E.27, Brückstr. 1, 41460 Neuss
END:VEVENT
BEGIN:VEVENT
DTSTAMP:20260420T174924
DTSTART;TZID=Europe/Berlin:20260629T083000
DTEND;TZID=Europe/Berlin:20260629T124500
UID:261S5062-20260629T083000@VHSNEUSS
SUMMARY:Integrationskurs Basis 2 - Niveau A1.2 (261S5062) 
LOCATION:Romaneum, Raum E.27, Brückstr. 1, 41460 Neuss
END:VEVENT
BEGIN:VEVENT
DTSTAMP:20260420T174924
DTSTART;TZID=Europe/Berlin:20260630T083000
DTEND;TZID=Europe/Berlin:20260630T124500
UID:261S5062-20260630T083000@VHSNEUSS
SUMMARY:Integrationskurs Basis 2 - Niveau A1.2 (261S5062) 
LOCATION:Romaneum, Raum E.27, Brückstr. 1, 41460 Neuss
END:VEVENT
BEGIN:VEVENT
DTSTAMP:20260420T174924
DTSTART;TZID=Europe/Berlin:20260701T083000
DTEND;TZID=Europe/Berlin:20260701T124500
UID:261S5062-20260701T083000@VHSNEUSS
SUMMARY:Integrationskurs Basis 2 - Niveau A1.2 (261S5062) 
LOCATION:Romaneum, Raum E.27, Brückstr. 1, 41460 Neuss
END:VEVENT
BEGIN:VEVENT
DTSTAMP:20260420T174924
DTSTART;TZID=Europe/Berlin:20260703T083000
DTEND;TZID=Europe/Berlin:20260703T124500
UID:261S5062-20260703T083000@VHSNEUSS
SUMMARY:Integrationskurs Basis 2 - Niveau A1.2 (261S5062) 
LOCATION:Romaneum, Raum E.27, Brückstr. 1, 41460 Neuss
END:VEVENT
END:VCALENDAR