BEGIN:VCALENDAR
VERSION:2.0
PRODID:https://www.kufer.de/kuferweb / DE
METHOD:PUBLISH
CALSCALE:GREGORIAN
X-WR-TIMEZONE:Europe/Berlin
BEGIN:VTIMEZONE
TZID:Europe/Berlin
X-LIC-LOCATION:Europe/Berlin
BEGIN:DAYLIGHT
TZOFFSETFROM:+0100
TZOFFSETTO:+0200
TZNAME:CEST
DTSTART:19700329T020000
RRULE:FREQ=YEARLY;INTERVAL=1;BYDAY=-1SU;BYMONTH=3
END:DAYLIGHT
BEGIN:STANDARD
TZOFFSETFROM:+0200
TZOFFSETTO:+0100
TZNAME:CET
DTSTART:19701025T030000
RRULE:FREQ=YEARLY;INTERVAL=1;BYDAY=-1SU;BYMONTH=10
END:STANDARD
END:VTIMEZONE
BEGIN:VEVENT
DTSTAMP:20260423T233001
DTSTART;TZID=Europe/Berlin:20260114T130000
DTEND;TZID=Europe/Berlin:20260114T150000
UID:261S902-20260114T130000@VHSNEUSS
SUMMARY:Offene Alpha-Sprechstunde, mittwochs, 14:00 bis 16:00 (261S902) 
LOCATION:Romaneum, Raum 1.09, Brückstr. 1, 41460 Neuss
END:VEVENT
BEGIN:VEVENT
DTSTAMP:20260423T233001
DTSTART;TZID=Europe/Berlin:20260121T130000
DTEND;TZID=Europe/Berlin:20260121T150000
UID:261S902-20260121T130000@VHSNEUSS
SUMMARY:Offene Alpha-Sprechstunde, mittwochs, 14:00 bis 16:00 (261S902) 
LOCATION:Romaneum, Raum 1.09, Brückstr. 1, 41460 Neuss
END:VEVENT
BEGIN:VEVENT
DTSTAMP:20260423T233001
DTSTART;TZID=Europe/Berlin:20260128T130000
DTEND;TZID=Europe/Berlin:20260128T150000
UID:261S902-20260128T130000@VHSNEUSS
SUMMARY:Offene Alpha-Sprechstunde, mittwochs, 14:00 bis 16:00 (261S902) 
LOCATION:Romaneum, Raum 1.09, Brückstr. 1, 41460 Neuss
END:VEVENT
BEGIN:VEVENT
DTSTAMP:20260423T233001
DTSTART;TZID=Europe/Berlin:20260204T140000
DTEND;TZID=Europe/Berlin:20260204T160000
UID:261S902-20260204T140000@VHSNEUSS
SUMMARY:Offene Alpha-Sprechstunde, mittwochs, 14:00 bis 16:00 (261S902) 
LOCATION:Romaneum, Raum 1.09, Brückstr. 1, 41460 Neuss
END:VEVENT
BEGIN:VEVENT
DTSTAMP:20260423T233001
DTSTART;TZID=Europe/Berlin:20260211T140000
DTEND;TZID=Europe/Berlin:20260211T160000
UID:261S902-20260211T140000@VHSNEUSS
SUMMARY:Offene Alpha-Sprechstunde, mittwochs, 14:00 bis 16:00 (261S902) 
LOCATION:Romaneum, Raum 1.09, Brückstr. 1, 41460 Neuss
END:VEVENT
BEGIN:VEVENT
DTSTAMP:20260423T233001
DTSTART;TZID=Europe/Berlin:20260225T140000
DTEND;TZID=Europe/Berlin:20260225T160000
UID:261S902-20260225T140000@VHSNEUSS
SUMMARY:Offene Alpha-Sprechstunde, mittwochs, 14:00 bis 16:00 (261S902) 
LOCATION:Romaneum, Raum 1.09, Brückstr. 1, 41460 Neuss
END:VEVENT
BEGIN:VEVENT
DTSTAMP:20260423T233001
DTSTART;TZID=Europe/Berlin:20260304T140000
DTEND;TZID=Europe/Berlin:20260304T160000
UID:261S902-20260304T140000@VHSNEUSS
SUMMARY:Offene Alpha-Sprechstunde, mittwochs, 14:00 bis 16:00 (261S902) 
LOCATION:Romaneum, Raum 1.09, Brückstr. 1, 41460 Neuss
END:VEVENT
BEGIN:VEVENT
DTSTAMP:20260423T233001
DTSTART;TZID=Europe/Berlin:20260311T140000
DTEND;TZID=Europe/Berlin:20260311T160000
UID:261S902-20260311T140000@VHSNEUSS
SUMMARY:Offene Alpha-Sprechstunde, mittwochs, 14:00 bis 16:00 (261S902) 
LOCATION:Romaneum, Raum 1.09, Brückstr. 1, 41460 Neuss
END:VEVENT
BEGIN:VEVENT
DTSTAMP:20260423T233001
DTSTART;TZID=Europe/Berlin:20260318T140000
DTEND;TZID=Europe/Berlin:20260318T160000
UID:261S902-20260318T140000@VHSNEUSS
SUMMARY:Offene Alpha-Sprechstunde, mittwochs, 14:00 bis 16:00 (261S902) 
LOCATION:Romaneum, Raum 1.09, Brückstr. 1, 41460 Neuss
END:VEVENT
BEGIN:VEVENT
DTSTAMP:20260423T233001
DTSTART;TZID=Europe/Berlin:20260325T140000
DTEND;TZID=Europe/Berlin:20260325T160000
UID:261S902-20260325T140000@VHSNEUSS
SUMMARY:Offene Alpha-Sprechstunde, mittwochs, 14:00 bis 16:00 (261S902) 
LOCATION:Romaneum, Raum 1.09, Brückstr. 1, 41460 Neuss
END:VEVENT
BEGIN:VEVENT
DTSTAMP:20260423T233001
DTSTART;TZID=Europe/Berlin:20260429T140000
DTEND;TZID=Europe/Berlin:20260429T160000
UID:261S902-20260429T140000@VHSNEUSS
SUMMARY:Offene Alpha-Sprechstunde, mittwochs, 14:00 bis 16:00 (261S902) 
LOCATION:Romaneum, Raum 1.09, Brückstr. 1, 41460 Neuss
END:VEVENT
BEGIN:VEVENT
DTSTAMP:20260423T233001
DTSTART;TZID=Europe/Berlin:20260506T140000
DTEND;TZID=Europe/Berlin:20260506T160000
UID:261S902-20260506T140000@VHSNEUSS
SUMMARY:Offene Alpha-Sprechstunde, mittwochs, 14:00 bis 16:00 (261S902) 
LOCATION:Romaneum, Raum 1.09, Brückstr. 1, 41460 Neuss
END:VEVENT
BEGIN:VEVENT
DTSTAMP:20260423T233001
DTSTART;TZID=Europe/Berlin:20260513T140000
DTEND;TZID=Europe/Berlin:20260513T160000
UID:261S902-20260513T140000@VHSNEUSS
SUMMARY:Offene Alpha-Sprechstunde, mittwochs, 14:00 bis 16:00 (261S902) 
LOCATION:Romaneum, Raum 1.09, Brückstr. 1, 41460 Neuss
END:VEVENT
BEGIN:VEVENT
DTSTAMP:20260423T233001
DTSTART;TZID=Europe/Berlin:20260520T140000
DTEND;TZID=Europe/Berlin:20260520T160000
UID:261S902-20260520T140000@VHSNEUSS
SUMMARY:Offene Alpha-Sprechstunde, mittwochs, 14:00 bis 16:00 (261S902) 
LOCATION:Romaneum, Raum 1.09, Brückstr. 1, 41460 Neuss
END:VEVENT
BEGIN:VEVENT
DTSTAMP:20260423T233001
DTSTART;TZID=Europe/Berlin:20260527T140000
DTEND;TZID=Europe/Berlin:20260527T160000
UID:261S902-20260527T140000@VHSNEUSS
SUMMARY:Offene Alpha-Sprechstunde, mittwochs, 14:00 bis 16:00 (261S902) 
LOCATION:Romaneum, Raum 1.09, Brückstr. 1, 41460 Neuss
END:VEVENT
BEGIN:VEVENT
DTSTAMP:20260423T233001
DTSTART;TZID=Europe/Berlin:20260603T140000
DTEND;TZID=Europe/Berlin:20260603T160000
UID:261S902-20260603T140000@VHSNEUSS
SUMMARY:Offene Alpha-Sprechstunde, mittwochs, 14:00 bis 16:00 (261S902) 
LOCATION:Romaneum, Raum 1.09, Brückstr. 1, 41460 Neuss
END:VEVENT
BEGIN:VEVENT
DTSTAMP:20260423T233001
DTSTART;TZID=Europe/Berlin:20260610T140000
DTEND;TZID=Europe/Berlin:20260610T160000
UID:261S902-20260610T140000@VHSNEUSS
SUMMARY:Offene Alpha-Sprechstunde, mittwochs, 14:00 bis 16:00 (261S902) 
LOCATION:Romaneum, Raum 1.09, Brückstr. 1, 41460 Neuss
END:VEVENT
BEGIN:VEVENT
DTSTAMP:20260423T233001
DTSTART;TZID=Europe/Berlin:20260617T140000
DTEND;TZID=Europe/Berlin:20260617T160000
UID:261S902-20260617T140000@VHSNEUSS
SUMMARY:Offene Alpha-Sprechstunde, mittwochs, 14:00 bis 16:00 (261S902) 
LOCATION:Romaneum, Raum 1.09, Brückstr. 1, 41460 Neuss
END:VEVENT
BEGIN:VEVENT
DTSTAMP:20260423T233001
DTSTART;TZID=Europe/Berlin:20260624T140000
DTEND;TZID=Europe/Berlin:20260624T160000
UID:261S902-20260624T140000@VHSNEUSS
SUMMARY:Offene Alpha-Sprechstunde, mittwochs, 14:00 bis 16:00 (261S902) 
LOCATION:Romaneum, Raum 1.09, Brückstr. 1, 41460 Neuss
END:VEVENT
BEGIN:VEVENT
DTSTAMP:20260423T233001
DTSTART;TZID=Europe/Berlin:20260701T140000
DTEND;TZID=Europe/Berlin:20260701T160000
UID:261S902-20260701T140000@VHSNEUSS
SUMMARY:Offene Alpha-Sprechstunde, mittwochs, 14:00 bis 16:00 (261S902) 
LOCATION:Romaneum, Raum 1.09, Brückstr. 1, 41460 Neuss
END:VEVENT
BEGIN:VEVENT
DTSTAMP:20260423T233001
DTSTART;TZID=Europe/Berlin:20260708T140000
DTEND;TZID=Europe/Berlin:20260708T160000
UID:261S902-20260708T140000@VHSNEUSS
SUMMARY:Offene Alpha-Sprechstunde, mittwochs, 14:00 bis 16:00 (261S902) 
LOCATION:Romaneum, Raum 1.09, Brückstr. 1, 41460 Neuss
END:VEVENT
BEGIN:VEVENT
DTSTAMP:20260423T233001
DTSTART;TZID=Europe/Berlin:20260715T140000
DTEND;TZID=Europe/Berlin:20260715T160000
UID:261S902-20260715T140000@VHSNEUSS
SUMMARY:Offene Alpha-Sprechstunde, mittwochs, 14:00 bis 16:00 (261S902) 
LOCATION:Romaneum, Raum 1.09, Brückstr. 1, 41460 Neuss
END:VEVENT
END:VCALENDAR