BEGIN:VCALENDAR
VERSION:2.0
PRODID:https://www.kufer.de/kuferweb / DE
METHOD:PUBLISH
CALSCALE:GREGORIAN
X-WR-TIMEZONE:Europe/Berlin
BEGIN:VTIMEZONE
TZID:Europe/Berlin
X-LIC-LOCATION:Europe/Berlin
BEGIN:DAYLIGHT
TZOFFSETFROM:+0100
TZOFFSETTO:+0200
TZNAME:CEST
DTSTART:19700329T020000
RRULE:FREQ=YEARLY;INTERVAL=1;BYDAY=-1SU;BYMONTH=3
END:DAYLIGHT
BEGIN:STANDARD
TZOFFSETFROM:+0200
TZOFFSETTO:+0100
TZNAME:CET
DTSTART:19701025T030000
RRULE:FREQ=YEARLY;INTERVAL=1;BYDAY=-1SU;BYMONTH=10
END:STANDARD
END:VTIMEZONE
BEGIN:VEVENT
DTSTAMP:20260423T202655
DTSTART;TZID=Europe/Berlin:20260121T090000
DTEND;TZID=Europe/Berlin:20260121T103000
UID:261S907-20260121T090000@VHSNEUSS
DESCRIPTION:Leseübungen
SUMMARY:Leseführerschein Alpha-Projekt Beratung 3 (261S907) 
LOCATION:Romaneum, Raum 2.08, Brückstr. 1, 41460 Neuss
END:VEVENT
BEGIN:VEVENT
DTSTAMP:20260423T202655
DTSTART;TZID=Europe/Berlin:20260123T090000
DTEND;TZID=Europe/Berlin:20260123T103000
UID:261S907-20260123T090000@VHSNEUSS
SUMMARY:Leseführerschein Alpha-Projekt Beratung 3 (261S907) 
LOCATION:Romaneum, Raum 2.08, Brückstr. 1, 41460 Neuss
END:VEVENT
BEGIN:VEVENT
DTSTAMP:20260423T202655
DTSTART;TZID=Europe/Berlin:20260128T090000
DTEND;TZID=Europe/Berlin:20260128T103000
UID:261S907-20260128T090000@VHSNEUSS
SUMMARY:Leseführerschein Alpha-Projekt Beratung 3 (261S907) 
LOCATION:Romaneum, Raum 2.08, Brückstr. 1, 41460 Neuss
END:VEVENT
BEGIN:VEVENT
DTSTAMP:20260423T202655
DTSTART;TZID=Europe/Berlin:20260130T090000
DTEND;TZID=Europe/Berlin:20260130T103000
UID:261S907-20260130T090000@VHSNEUSS
SUMMARY:Leseführerschein Alpha-Projekt Beratung 3 (261S907) 
LOCATION:Romaneum, Raum 2.08, Brückstr. 1, 41460 Neuss
END:VEVENT
BEGIN:VEVENT
DTSTAMP:20260423T202655
DTSTART;TZID=Europe/Berlin:20260204T090000
DTEND;TZID=Europe/Berlin:20260204T103000
UID:261S907-20260204T090000@VHSNEUSS
SUMMARY:Leseführerschein Alpha-Projekt Beratung 3 (261S907) 
LOCATION:Romaneum, Raum 2.08, Brückstr. 1, 41460 Neuss
END:VEVENT
BEGIN:VEVENT
DTSTAMP:20260423T202655
DTSTART;TZID=Europe/Berlin:20260206T090000
DTEND;TZID=Europe/Berlin:20260206T103000
UID:261S907-20260206T090000@VHSNEUSS
SUMMARY:Leseführerschein Alpha-Projekt Beratung 3 (261S907) 
LOCATION:Romaneum, Raum 2.08, Brückstr. 1, 41460 Neuss
END:VEVENT
BEGIN:VEVENT
DTSTAMP:20260423T202655
DTSTART;TZID=Europe/Berlin:20260211T090000
DTEND;TZID=Europe/Berlin:20260211T103000
UID:261S907-20260211T090000@VHSNEUSS
SUMMARY:Leseführerschein Alpha-Projekt Beratung 3 (261S907) 
LOCATION:Romaneum, Raum 2.08, Brückstr. 1, 41460 Neuss
END:VEVENT
BEGIN:VEVENT
DTSTAMP:20260423T202655
DTSTART;TZID=Europe/Berlin:20260213T090000
DTEND;TZID=Europe/Berlin:20260213T103000
UID:261S907-20260213T090000@VHSNEUSS
SUMMARY:Leseführerschein Alpha-Projekt Beratung 3 (261S907) 
LOCATION:Romaneum, Raum 2.08, Brückstr. 1, 41460 Neuss
END:VEVENT
BEGIN:VEVENT
DTSTAMP:20260423T202655
DTSTART;TZID=Europe/Berlin:20260218T090000
DTEND;TZID=Europe/Berlin:20260218T103000
UID:261S907-20260218T090000@VHSNEUSS
SUMMARY:Leseführerschein Alpha-Projekt Beratung 3 (261S907) 
LOCATION:Romaneum, Raum 2.08, Brückstr. 1, 41460 Neuss
END:VEVENT
BEGIN:VEVENT
DTSTAMP:20260423T202655
DTSTART;TZID=Europe/Berlin:20260220T090000
DTEND;TZID=Europe/Berlin:20260220T103000
UID:261S907-20260220T090000@VHSNEUSS
SUMMARY:Leseführerschein Alpha-Projekt Beratung 3 (261S907) 
LOCATION:Romaneum, Raum 2.08, Brückstr. 1, 41460 Neuss
END:VEVENT
BEGIN:VEVENT
DTSTAMP:20260423T202655
DTSTART;TZID=Europe/Berlin:20260225T090000
DTEND;TZID=Europe/Berlin:20260225T103000
UID:261S907-20260225T090000@VHSNEUSS
SUMMARY:Leseführerschein Alpha-Projekt Beratung 3 (261S907) 
LOCATION:Romaneum, Raum 2.08, Brückstr. 1, 41460 Neuss
END:VEVENT
BEGIN:VEVENT
DTSTAMP:20260423T202655
DTSTART;TZID=Europe/Berlin:20260227T090000
DTEND;TZID=Europe/Berlin:20260227T103000
UID:261S907-20260227T090000@VHSNEUSS
SUMMARY:Leseführerschein Alpha-Projekt Beratung 3 (261S907) 
LOCATION:Romaneum, Raum 2.08, Brückstr. 1, 41460 Neuss
END:VEVENT
BEGIN:VEVENT
DTSTAMP:20260423T202655
DTSTART;TZID=Europe/Berlin:20260304T090000
DTEND;TZID=Europe/Berlin:20260304T103000
UID:261S907-20260304T090000@VHSNEUSS
SUMMARY:Leseführerschein Alpha-Projekt Beratung 3 (261S907) 
LOCATION:Romaneum, Raum 2.08, Brückstr. 1, 41460 Neuss
END:VEVENT
BEGIN:VEVENT
DTSTAMP:20260423T202655
DTSTART;TZID=Europe/Berlin:20260306T090000
DTEND;TZID=Europe/Berlin:20260306T103000
UID:261S907-20260306T090000@VHSNEUSS
SUMMARY:Leseführerschein Alpha-Projekt Beratung 3 (261S907) 
LOCATION:Romaneum, Raum 2.08, Brückstr. 1, 41460 Neuss
END:VEVENT
BEGIN:VEVENT
DTSTAMP:20260423T202655
DTSTART;TZID=Europe/Berlin:20260311T090000
DTEND;TZID=Europe/Berlin:20260311T103000
UID:261S907-20260311T090000@VHSNEUSS
SUMMARY:Leseführerschein Alpha-Projekt Beratung 3 (261S907) 
LOCATION:Romaneum, Raum 2.08, Brückstr. 1, 41460 Neuss
END:VEVENT
BEGIN:VEVENT
DTSTAMP:20260423T202655
DTSTART;TZID=Europe/Berlin:20260313T090000
DTEND;TZID=Europe/Berlin:20260313T103000
UID:261S907-20260313T090000@VHSNEUSS
SUMMARY:Leseführerschein Alpha-Projekt Beratung 3 (261S907) 
LOCATION:Romaneum, Raum 2.08, Brückstr. 1, 41460 Neuss
END:VEVENT
BEGIN:VEVENT
DTSTAMP:20260423T202655
DTSTART;TZID=Europe/Berlin:20260318T090000
DTEND;TZID=Europe/Berlin:20260318T103000
UID:261S907-20260318T090000@VHSNEUSS
SUMMARY:Leseführerschein Alpha-Projekt Beratung 3 (261S907) 
LOCATION:Romaneum, Raum 2.08, Brückstr. 1, 41460 Neuss
END:VEVENT
BEGIN:VEVENT
DTSTAMP:20260423T202655
DTSTART;TZID=Europe/Berlin:20260320T090000
DTEND;TZID=Europe/Berlin:20260320T103000
UID:261S907-20260320T090000@VHSNEUSS
SUMMARY:Leseführerschein Alpha-Projekt Beratung 3 (261S907) 
LOCATION:Romaneum, Raum 2.08, Brückstr. 1, 41460 Neuss
END:VEVENT
BEGIN:VEVENT
DTSTAMP:20260423T202655
DTSTART;TZID=Europe/Berlin:20260325T090000
DTEND;TZID=Europe/Berlin:20260325T103000
UID:261S907-20260325T090000@VHSNEUSS
SUMMARY:Leseführerschein Alpha-Projekt Beratung 3 (261S907) 
LOCATION:Romaneum, Raum 2.08, Brückstr. 1, 41460 Neuss
END:VEVENT
BEGIN:VEVENT
DTSTAMP:20260423T202655
DTSTART;TZID=Europe/Berlin:20260327T090000
DTEND;TZID=Europe/Berlin:20260327T103000
UID:261S907-20260327T090000@VHSNEUSS
SUMMARY:Leseführerschein Alpha-Projekt Beratung 3 (261S907) 
LOCATION:Romaneum, Raum 2.08, Brückstr. 1, 41460 Neuss
END:VEVENT
BEGIN:VEVENT
DTSTAMP:20260423T202655
DTSTART;TZID=Europe/Berlin:20260415T090000
DTEND;TZID=Europe/Berlin:20260415T103000
UID:261S907-20260415T090000@VHSNEUSS
SUMMARY:Leseführerschein Alpha-Projekt Beratung 3 (261S907) 
LOCATION:Romaneum, Raum 2.08, Brückstr. 1, 41460 Neuss
END:VEVENT
BEGIN:VEVENT
DTSTAMP:20260423T202655
DTSTART;TZID=Europe/Berlin:20260417T090000
DTEND;TZID=Europe/Berlin:20260417T103000
UID:261S907-20260417T090000@VHSNEUSS
SUMMARY:Leseführerschein Alpha-Projekt Beratung 3 (261S907) 
LOCATION:Romaneum, Raum 2.08, Brückstr. 1, 41460 Neuss
END:VEVENT
BEGIN:VEVENT
DTSTAMP:20260423T202655
DTSTART;TZID=Europe/Berlin:20260422T090000
DTEND;TZID=Europe/Berlin:20260422T103000
UID:261S907-20260422T090000@VHSNEUSS
SUMMARY:Leseführerschein Alpha-Projekt Beratung 3 (261S907) 
LOCATION:Romaneum, Raum 2.08, Brückstr. 1, 41460 Neuss
END:VEVENT
BEGIN:VEVENT
DTSTAMP:20260423T202655
DTSTART;TZID=Europe/Berlin:20260424T090000
DTEND;TZID=Europe/Berlin:20260424T103000
UID:261S907-20260424T090000@VHSNEUSS
SUMMARY:Leseführerschein Alpha-Projekt Beratung 3 (261S907) 
LOCATION:Romaneum, Raum 2.08, Brückstr. 1, 41460 Neuss
END:VEVENT
BEGIN:VEVENT
DTSTAMP:20260423T202655
DTSTART;TZID=Europe/Berlin:20260429T090000
DTEND;TZID=Europe/Berlin:20260429T103000
UID:261S907-20260429T090000@VHSNEUSS
SUMMARY:Leseführerschein Alpha-Projekt Beratung 3 (261S907) 
LOCATION:Romaneum, Raum 2.08, Brückstr. 1, 41460 Neuss
END:VEVENT
BEGIN:VEVENT
DTSTAMP:20260423T202655
DTSTART;TZID=Europe/Berlin:20260506T090000
DTEND;TZID=Europe/Berlin:20260506T103000
UID:261S907-20260506T090000@VHSNEUSS
SUMMARY:Leseführerschein Alpha-Projekt Beratung 3 (261S907) 
LOCATION:Romaneum, Raum 2.08, Brückstr. 1, 41460 Neuss
END:VEVENT
BEGIN:VEVENT
DTSTAMP:20260423T202655
DTSTART;TZID=Europe/Berlin:20260508T090000
DTEND;TZID=Europe/Berlin:20260508T103000
UID:261S907-20260508T090000@VHSNEUSS
SUMMARY:Leseführerschein Alpha-Projekt Beratung 3 (261S907) 
LOCATION:Romaneum, Raum 2.08, Brückstr. 1, 41460 Neuss
END:VEVENT
BEGIN:VEVENT
DTSTAMP:20260423T202655
DTSTART;TZID=Europe/Berlin:20260513T090000
DTEND;TZID=Europe/Berlin:20260513T103000
UID:261S907-20260513T090000@VHSNEUSS
SUMMARY:Leseführerschein Alpha-Projekt Beratung 3 (261S907) 
LOCATION:Romaneum, Raum 2.08, Brückstr. 1, 41460 Neuss
END:VEVENT
BEGIN:VEVENT
DTSTAMP:20260423T202655
DTSTART;TZID=Europe/Berlin:20260515T090000
DTEND;TZID=Europe/Berlin:20260515T103000
UID:261S907-20260515T090000@VHSNEUSS
SUMMARY:Leseführerschein Alpha-Projekt Beratung 3 (261S907) 
LOCATION:Romaneum, Raum 2.08, Brückstr. 1, 41460 Neuss
END:VEVENT
BEGIN:VEVENT
DTSTAMP:20260423T202655
DTSTART;TZID=Europe/Berlin:20260520T090000
DTEND;TZID=Europe/Berlin:20260520T103000
UID:261S907-20260520T090000@VHSNEUSS
SUMMARY:Leseführerschein Alpha-Projekt Beratung 3 (261S907) 
LOCATION:Romaneum, Raum 2.08, Brückstr. 1, 41460 Neuss
END:VEVENT
BEGIN:VEVENT
DTSTAMP:20260423T202655
DTSTART;TZID=Europe/Berlin:20260522T090000
DTEND;TZID=Europe/Berlin:20260522T103000
UID:261S907-20260522T090000@VHSNEUSS
SUMMARY:Leseführerschein Alpha-Projekt Beratung 3 (261S907) 
LOCATION:Romaneum, Raum 2.08, Brückstr. 1, 41460 Neuss
END:VEVENT
BEGIN:VEVENT
DTSTAMP:20260423T202655
DTSTART;TZID=Europe/Berlin:20260527T090000
DTEND;TZID=Europe/Berlin:20260527T103000
UID:261S907-20260527T090000@VHSNEUSS
SUMMARY:Leseführerschein Alpha-Projekt Beratung 3 (261S907) 
LOCATION:Romaneum, Raum 2.08, Brückstr. 1, 41460 Neuss
END:VEVENT
BEGIN:VEVENT
DTSTAMP:20260423T202655
DTSTART;TZID=Europe/Berlin:20260529T090000
DTEND;TZID=Europe/Berlin:20260529T103000
UID:261S907-20260529T090000@VHSNEUSS
SUMMARY:Leseführerschein Alpha-Projekt Beratung 3 (261S907) 
LOCATION:Romaneum, Raum 2.08, Brückstr. 1, 41460 Neuss
END:VEVENT
BEGIN:VEVENT
DTSTAMP:20260423T202655
DTSTART;TZID=Europe/Berlin:20260603T090000
DTEND;TZID=Europe/Berlin:20260603T103000
UID:261S907-20260603T090000@VHSNEUSS
SUMMARY:Leseführerschein Alpha-Projekt Beratung 3 (261S907) 
LOCATION:Romaneum, Raum 2.08, Brückstr. 1, 41460 Neuss
END:VEVENT
BEGIN:VEVENT
DTSTAMP:20260423T202655
DTSTART;TZID=Europe/Berlin:20260605T090000
DTEND;TZID=Europe/Berlin:20260605T103000
UID:261S907-20260605T090000@VHSNEUSS
SUMMARY:Leseführerschein Alpha-Projekt Beratung 3 (261S907) 
LOCATION:Romaneum, Raum 2.08, Brückstr. 1, 41460 Neuss
END:VEVENT
BEGIN:VEVENT
DTSTAMP:20260423T202655
DTSTART;TZID=Europe/Berlin:20260610T090000
DTEND;TZID=Europe/Berlin:20260610T103000
UID:261S907-20260610T090000@VHSNEUSS
SUMMARY:Leseführerschein Alpha-Projekt Beratung 3 (261S907) 
LOCATION:Romaneum, Raum 2.08, Brückstr. 1, 41460 Neuss
END:VEVENT
BEGIN:VEVENT
DTSTAMP:20260423T202655
DTSTART;TZID=Europe/Berlin:20260612T090000
DTEND;TZID=Europe/Berlin:20260612T103000
UID:261S907-20260612T090000@VHSNEUSS
SUMMARY:Leseführerschein Alpha-Projekt Beratung 3 (261S907) 
LOCATION:Romaneum, Raum 2.08, Brückstr. 1, 41460 Neuss
END:VEVENT
BEGIN:VEVENT
DTSTAMP:20260423T202655
DTSTART;TZID=Europe/Berlin:20260617T090000
DTEND;TZID=Europe/Berlin:20260617T103000
UID:261S907-20260617T090000@VHSNEUSS
SUMMARY:Leseführerschein Alpha-Projekt Beratung 3 (261S907) 
LOCATION:Romaneum, Raum 2.08, Brückstr. 1, 41460 Neuss
END:VEVENT
BEGIN:VEVENT
DTSTAMP:20260423T202655
DTSTART;TZID=Europe/Berlin:20260619T090000
DTEND;TZID=Europe/Berlin:20260619T103000
UID:261S907-20260619T090000@VHSNEUSS
SUMMARY:Leseführerschein Alpha-Projekt Beratung 3 (261S907) 
LOCATION:Romaneum, Raum 2.08, Brückstr. 1, 41460 Neuss
END:VEVENT
BEGIN:VEVENT
DTSTAMP:20260423T202655
DTSTART;TZID=Europe/Berlin:20260624T090000
DTEND;TZID=Europe/Berlin:20260624T103000
UID:261S907-20260624T090000@VHSNEUSS
SUMMARY:Leseführerschein Alpha-Projekt Beratung 3 (261S907) 
LOCATION:Romaneum, Raum 2.08, Brückstr. 1, 41460 Neuss
END:VEVENT
BEGIN:VEVENT
DTSTAMP:20260423T202655
DTSTART;TZID=Europe/Berlin:20260626T090000
DTEND;TZID=Europe/Berlin:20260626T103000
UID:261S907-20260626T090000@VHSNEUSS
SUMMARY:Leseführerschein Alpha-Projekt Beratung 3 (261S907) 
LOCATION:Romaneum, Raum 2.08, Brückstr. 1, 41460 Neuss
END:VEVENT
BEGIN:VEVENT
DTSTAMP:20260423T202655
DTSTART;TZID=Europe/Berlin:20260701T090000
DTEND;TZID=Europe/Berlin:20260701T103000
UID:261S907-20260701T090000@VHSNEUSS
SUMMARY:Leseführerschein Alpha-Projekt Beratung 3 (261S907) 
LOCATION:Romaneum, Raum 2.08, Brückstr. 1, 41460 Neuss
END:VEVENT
BEGIN:VEVENT
DTSTAMP:20260423T202655
DTSTART;TZID=Europe/Berlin:20260703T090000
DTEND;TZID=Europe/Berlin:20260703T103000
UID:261S907-20260703T090000@VHSNEUSS
SUMMARY:Leseführerschein Alpha-Projekt Beratung 3 (261S907) 
LOCATION:Romaneum, Raum 2.08, Brückstr. 1, 41460 Neuss
END:VEVENT
BEGIN:VEVENT
DTSTAMP:20260423T202655
DTSTART;TZID=Europe/Berlin:20260708T090000
DTEND;TZID=Europe/Berlin:20260708T103000
UID:261S907-20260708T090000@VHSNEUSS
SUMMARY:Leseführerschein Alpha-Projekt Beratung 3 (261S907) 
LOCATION:Romaneum, Raum 2.08, Brückstr. 1, 41460 Neuss
END:VEVENT
BEGIN:VEVENT
DTSTAMP:20260423T202655
DTSTART;TZID=Europe/Berlin:20260710T090000
DTEND;TZID=Europe/Berlin:20260710T103000
UID:261S907-20260710T090000@VHSNEUSS
SUMMARY:Leseführerschein Alpha-Projekt Beratung 3 (261S907) 
LOCATION:Romaneum, Raum 2.08, Brückstr. 1, 41460 Neuss
END:VEVENT
BEGIN:VEVENT
DTSTAMP:20260423T202655
DTSTART;TZID=Europe/Berlin:20260715T090000
DTEND;TZID=Europe/Berlin:20260715T103000
UID:261S907-20260715T090000@VHSNEUSS
SUMMARY:Leseführerschein Alpha-Projekt Beratung 3 (261S907) 
LOCATION:Romaneum, Raum 2.08, Brückstr. 1, 41460 Neuss
END:VEVENT
BEGIN:VEVENT
DTSTAMP:20260423T202655
DTSTART;TZID=Europe/Berlin:20260717T090000
DTEND;TZID=Europe/Berlin:20260717T103000
UID:261S907-20260717T090000@VHSNEUSS
SUMMARY:Leseführerschein Alpha-Projekt Beratung 3 (261S907) 
LOCATION:Romaneum, Raum 2.08, Brückstr. 1, 41460 Neuss
END:VEVENT
END:VCALENDAR