BEGIN:VCALENDAR
VERSION:2.0
PRODID:https://www.kufer.de/kuferweb / DE
METHOD:PUBLISH
CALSCALE:GREGORIAN
X-WR-TIMEZONE:Europe/Berlin
BEGIN:VTIMEZONE
TZID:Europe/Berlin
X-LIC-LOCATION:Europe/Berlin
BEGIN:DAYLIGHT
TZOFFSETFROM:+0100
TZOFFSETTO:+0200
TZNAME:CEST
DTSTART:19700329T020000
RRULE:FREQ=YEARLY;INTERVAL=1;BYDAY=-1SU;BYMONTH=3
END:DAYLIGHT
BEGIN:STANDARD
TZOFFSETFROM:+0200
TZOFFSETTO:+0100
TZNAME:CET
DTSTART:19701025T030000
RRULE:FREQ=YEARLY;INTERVAL=1;BYDAY=-1SU;BYMONTH=10
END:STANDARD
END:VTIMEZONE
BEGIN:VEVENT
DTSTAMP:20260424T011135
DTSTART;TZID=Europe/Berlin:20260121T160000
DTEND;TZID=Europe/Berlin:20260121T173000
UID:261S909-20260121T160000@VHSNEUSS
SUMMARY:Leseführerschein Alpha-Projekt Beratung 5 (261S909) 
LOCATION:Romaneum, Raum 1.09, Brückstr. 1, 41460 Neuss
END:VEVENT
BEGIN:VEVENT
DTSTAMP:20260424T011135
DTSTART;TZID=Europe/Berlin:20260123T150000
DTEND;TZID=Europe/Berlin:20260123T163000
UID:261S909-20260123T150000@VHSNEUSS
SUMMARY:Leseführerschein Alpha-Projekt Beratung 5 (261S909) 
LOCATION:Romaneum, Raum 1.10, Brückstr. 1, 41460 Neuss
END:VEVENT
BEGIN:VEVENT
DTSTAMP:20260424T011135
DTSTART;TZID=Europe/Berlin:20260130T150000
DTEND;TZID=Europe/Berlin:20260130T163000
UID:261S909-20260130T150000@VHSNEUSS
SUMMARY:Leseführerschein Alpha-Projekt Beratung 5 (261S909) 
LOCATION:Romaneum, Raum 1.10, Brückstr. 1, 41460 Neuss
END:VEVENT
BEGIN:VEVENT
DTSTAMP:20260424T011135
DTSTART;TZID=Europe/Berlin:20260204T160000
DTEND;TZID=Europe/Berlin:20260204T173000
UID:261S909-20260204T160000@VHSNEUSS
SUMMARY:Leseführerschein Alpha-Projekt Beratung 5 (261S909) 
LOCATION:Romaneum, Raum 1.09, Brückstr. 1, 41460 Neuss
END:VEVENT
BEGIN:VEVENT
DTSTAMP:20260424T011135
DTSTART;TZID=Europe/Berlin:20260206T150000
DTEND;TZID=Europe/Berlin:20260206T163000
UID:261S909-20260206T150000@VHSNEUSS
SUMMARY:Leseführerschein Alpha-Projekt Beratung 5 (261S909) 
LOCATION:Romaneum, Raum 1.10, Brückstr. 1, 41460 Neuss
END:VEVENT
BEGIN:VEVENT
DTSTAMP:20260424T011135
DTSTART;TZID=Europe/Berlin:20260211T160000
DTEND;TZID=Europe/Berlin:20260211T173000
UID:261S909-20260211T160000@VHSNEUSS
SUMMARY:Leseführerschein Alpha-Projekt Beratung 5 (261S909) 
LOCATION:Romaneum, Raum 1.09, Brückstr. 1, 41460 Neuss
END:VEVENT
BEGIN:VEVENT
DTSTAMP:20260424T011135
DTSTART;TZID=Europe/Berlin:20260213T150000
DTEND;TZID=Europe/Berlin:20260213T163000
UID:261S909-20260213T150000@VHSNEUSS
SUMMARY:Leseführerschein Alpha-Projekt Beratung 5 (261S909) 
LOCATION:Romaneum, Raum 1.10, Brückstr. 1, 41460 Neuss
END:VEVENT
BEGIN:VEVENT
DTSTAMP:20260424T011135
DTSTART;TZID=Europe/Berlin:20260218T160000
DTEND;TZID=Europe/Berlin:20260218T173000
UID:261S909-20260218T160000@VHSNEUSS
SUMMARY:Leseführerschein Alpha-Projekt Beratung 5 (261S909) 
LOCATION:Romaneum, Raum 1.09, Brückstr. 1, 41460 Neuss
END:VEVENT
BEGIN:VEVENT
DTSTAMP:20260424T011135
DTSTART;TZID=Europe/Berlin:20260304T160000
DTEND;TZID=Europe/Berlin:20260304T173000
UID:261S909-20260304T160000@VHSNEUSS
SUMMARY:Leseführerschein Alpha-Projekt Beratung 5 (261S909) 
LOCATION:Romaneum, Raum 1.09, Brückstr. 1, 41460 Neuss
END:VEVENT
BEGIN:VEVENT
DTSTAMP:20260424T011135
DTSTART;TZID=Europe/Berlin:20260311T160000
DTEND;TZID=Europe/Berlin:20260311T173000
UID:261S909-20260311T160000@VHSNEUSS
SUMMARY:Leseführerschein Alpha-Projekt Beratung 5 (261S909) 
LOCATION:Romaneum, Raum 1.09, Brückstr. 1, 41460 Neuss
END:VEVENT
BEGIN:VEVENT
DTSTAMP:20260424T011135
DTSTART;TZID=Europe/Berlin:20260313T150000
DTEND;TZID=Europe/Berlin:20260313T163000
UID:261S909-20260313T150000@VHSNEUSS
SUMMARY:Leseführerschein Alpha-Projekt Beratung 5 (261S909) 
LOCATION:Romaneum, Raum 1.10, Brückstr. 1, 41460 Neuss
END:VEVENT
BEGIN:VEVENT
DTSTAMP:20260424T011135
DTSTART;TZID=Europe/Berlin:20260318T160000
DTEND;TZID=Europe/Berlin:20260318T173000
UID:261S909-20260318T160000@VHSNEUSS
SUMMARY:Leseführerschein Alpha-Projekt Beratung 5 (261S909) 
LOCATION:Romaneum, Raum 1.09, Brückstr. 1, 41460 Neuss
END:VEVENT
BEGIN:VEVENT
DTSTAMP:20260424T011135
DTSTART;TZID=Europe/Berlin:20260320T150000
DTEND;TZID=Europe/Berlin:20260320T163000
UID:261S909-20260320T150000@VHSNEUSS
SUMMARY:Leseführerschein Alpha-Projekt Beratung 5 (261S909) 
LOCATION:Romaneum, Raum 1.10, Brückstr. 1, 41460 Neuss
END:VEVENT
BEGIN:VEVENT
DTSTAMP:20260424T011135
DTSTART;TZID=Europe/Berlin:20260325T160000
DTEND;TZID=Europe/Berlin:20260325T173000
UID:261S909-20260325T160000@VHSNEUSS
SUMMARY:Leseführerschein Alpha-Projekt Beratung 5 (261S909) 
LOCATION:Romaneum, Raum 1.09, Brückstr. 1, 41460 Neuss
END:VEVENT
BEGIN:VEVENT
DTSTAMP:20260424T011135
DTSTART;TZID=Europe/Berlin:20260327T150000
DTEND;TZID=Europe/Berlin:20260327T163000
UID:261S909-20260327T150000@VHSNEUSS
SUMMARY:Leseführerschein Alpha-Projekt Beratung 5 (261S909) 
LOCATION:Romaneum, Raum 1.10, Brückstr. 1, 41460 Neuss
END:VEVENT
BEGIN:VEVENT
DTSTAMP:20260424T011135
DTSTART;TZID=Europe/Berlin:20260415T160000
DTEND;TZID=Europe/Berlin:20260415T173000
UID:261S909-20260415T160000@VHSNEUSS
SUMMARY:Leseführerschein Alpha-Projekt Beratung 5 (261S909) 
LOCATION:Romaneum, Raum 1.09, Brückstr. 1, 41460 Neuss
END:VEVENT
BEGIN:VEVENT
DTSTAMP:20260424T011135
DTSTART;TZID=Europe/Berlin:20260417T150000
DTEND;TZID=Europe/Berlin:20260417T163000
UID:261S909-20260417T150000@VHSNEUSS
SUMMARY:Leseführerschein Alpha-Projekt Beratung 5 (261S909) 
LOCATION:Romaneum, Raum 1.10, Brückstr. 1, 41460 Neuss
END:VEVENT
BEGIN:VEVENT
DTSTAMP:20260424T011135
DTSTART;TZID=Europe/Berlin:20260422T160000
DTEND;TZID=Europe/Berlin:20260422T173000
UID:261S909-20260422T160000@VHSNEUSS
SUMMARY:Leseführerschein Alpha-Projekt Beratung 5 (261S909) 
LOCATION:Romaneum, Raum 1.09, Brückstr. 1, 41460 Neuss
END:VEVENT
BEGIN:VEVENT
DTSTAMP:20260424T011135
DTSTART;TZID=Europe/Berlin:20260424T150000
DTEND;TZID=Europe/Berlin:20260424T163000
UID:261S909-20260424T150000@VHSNEUSS
SUMMARY:Leseführerschein Alpha-Projekt Beratung 5 (261S909) 
LOCATION:Romaneum, Raum 1.10, Brückstr. 1, 41460 Neuss
END:VEVENT
BEGIN:VEVENT
DTSTAMP:20260424T011135
DTSTART;TZID=Europe/Berlin:20260429T160000
DTEND;TZID=Europe/Berlin:20260429T173000
UID:261S909-20260429T160000@VHSNEUSS
SUMMARY:Leseführerschein Alpha-Projekt Beratung 5 (261S909) 
LOCATION:Romaneum, Raum 1.09, Brückstr. 1, 41460 Neuss
END:VEVENT
BEGIN:VEVENT
DTSTAMP:20260424T011135
DTSTART;TZID=Europe/Berlin:20260506T160000
DTEND;TZID=Europe/Berlin:20260506T173000
UID:261S909-20260506T160000@VHSNEUSS
SUMMARY:Leseführerschein Alpha-Projekt Beratung 5 (261S909) 
LOCATION:Romaneum, Raum 1.09, Brückstr. 1, 41460 Neuss
END:VEVENT
BEGIN:VEVENT
DTSTAMP:20260424T011135
DTSTART;TZID=Europe/Berlin:20260508T150000
DTEND;TZID=Europe/Berlin:20260508T163000
UID:261S909-20260508T150000@VHSNEUSS
SUMMARY:Leseführerschein Alpha-Projekt Beratung 5 (261S909) 
LOCATION:Romaneum, Raum 1.10, Brückstr. 1, 41460 Neuss
END:VEVENT
BEGIN:VEVENT
DTSTAMP:20260424T011135
DTSTART;TZID=Europe/Berlin:20260513T160000
DTEND;TZID=Europe/Berlin:20260513T173000
UID:261S909-20260513T160000@VHSNEUSS
SUMMARY:Leseführerschein Alpha-Projekt Beratung 5 (261S909) 
LOCATION:Romaneum, Raum 1.09, Brückstr. 1, 41460 Neuss
END:VEVENT
BEGIN:VEVENT
DTSTAMP:20260424T011135
DTSTART;TZID=Europe/Berlin:20260515T150000
DTEND;TZID=Europe/Berlin:20260515T163000
UID:261S909-20260515T150000@VHSNEUSS
SUMMARY:Leseführerschein Alpha-Projekt Beratung 5 (261S909) 
LOCATION:Romaneum, Raum 1.10, Brückstr. 1, 41460 Neuss
END:VEVENT
BEGIN:VEVENT
DTSTAMP:20260424T011135
DTSTART;TZID=Europe/Berlin:20260520T160000
DTEND;TZID=Europe/Berlin:20260520T173000
UID:261S909-20260520T160000@VHSNEUSS
SUMMARY:Leseführerschein Alpha-Projekt Beratung 5 (261S909) 
LOCATION:Romaneum, Raum 1.09, Brückstr. 1, 41460 Neuss
END:VEVENT
BEGIN:VEVENT
DTSTAMP:20260424T011135
DTSTART;TZID=Europe/Berlin:20260522T150000
DTEND;TZID=Europe/Berlin:20260522T163000
UID:261S909-20260522T150000@VHSNEUSS
SUMMARY:Leseführerschein Alpha-Projekt Beratung 5 (261S909) 
LOCATION:Romaneum, Raum 1.10, Brückstr. 1, 41460 Neuss
END:VEVENT
BEGIN:VEVENT
DTSTAMP:20260424T011135
DTSTART;TZID=Europe/Berlin:20260527T160000
DTEND;TZID=Europe/Berlin:20260527T173000
UID:261S909-20260527T160000@VHSNEUSS
SUMMARY:Leseführerschein Alpha-Projekt Beratung 5 (261S909) 
LOCATION:Romaneum, Raum 1.09, Brückstr. 1, 41460 Neuss
END:VEVENT
BEGIN:VEVENT
DTSTAMP:20260424T011135
DTSTART;TZID=Europe/Berlin:20260529T150000
DTEND;TZID=Europe/Berlin:20260529T163000
UID:261S909-20260529T150000@VHSNEUSS
SUMMARY:Leseführerschein Alpha-Projekt Beratung 5 (261S909) 
LOCATION:Romaneum, Raum 1.10, Brückstr. 1, 41460 Neuss
END:VEVENT
BEGIN:VEVENT
DTSTAMP:20260424T011135
DTSTART;TZID=Europe/Berlin:20260603T160000
DTEND;TZID=Europe/Berlin:20260603T173000
UID:261S909-20260603T160000@VHSNEUSS
SUMMARY:Leseführerschein Alpha-Projekt Beratung 5 (261S909) 
LOCATION:Romaneum, Raum 1.09, Brückstr. 1, 41460 Neuss
END:VEVENT
BEGIN:VEVENT
DTSTAMP:20260424T011135
DTSTART;TZID=Europe/Berlin:20260605T150000
DTEND;TZID=Europe/Berlin:20260605T163000
UID:261S909-20260605T150000@VHSNEUSS
SUMMARY:Leseführerschein Alpha-Projekt Beratung 5 (261S909) 
LOCATION:Romaneum, Raum 1.10, Brückstr. 1, 41460 Neuss
END:VEVENT
BEGIN:VEVENT
DTSTAMP:20260424T011135
DTSTART;TZID=Europe/Berlin:20260610T160000
DTEND;TZID=Europe/Berlin:20260610T173000
UID:261S909-20260610T160000@VHSNEUSS
SUMMARY:Leseführerschein Alpha-Projekt Beratung 5 (261S909) 
LOCATION:Romaneum, Raum 1.09, Brückstr. 1, 41460 Neuss
END:VEVENT
BEGIN:VEVENT
DTSTAMP:20260424T011135
DTSTART;TZID=Europe/Berlin:20260612T150000
DTEND;TZID=Europe/Berlin:20260612T163000
UID:261S909-20260612T150000@VHSNEUSS
SUMMARY:Leseführerschein Alpha-Projekt Beratung 5 (261S909) 
LOCATION:Romaneum, Raum 1.10, Brückstr. 1, 41460 Neuss
END:VEVENT
BEGIN:VEVENT
DTSTAMP:20260424T011135
DTSTART;TZID=Europe/Berlin:20260617T160000
DTEND;TZID=Europe/Berlin:20260617T173000
UID:261S909-20260617T160000@VHSNEUSS
SUMMARY:Leseführerschein Alpha-Projekt Beratung 5 (261S909) 
LOCATION:Romaneum, Raum 1.09, Brückstr. 1, 41460 Neuss
END:VEVENT
BEGIN:VEVENT
DTSTAMP:20260424T011135
DTSTART;TZID=Europe/Berlin:20260619T150000
DTEND;TZID=Europe/Berlin:20260619T163000
UID:261S909-20260619T150000@VHSNEUSS
SUMMARY:Leseführerschein Alpha-Projekt Beratung 5 (261S909) 
LOCATION:Romaneum, Raum 1.10, Brückstr. 1, 41460 Neuss
END:VEVENT
BEGIN:VEVENT
DTSTAMP:20260424T011135
DTSTART;TZID=Europe/Berlin:20260624T160000
DTEND;TZID=Europe/Berlin:20260624T173000
UID:261S909-20260624T160000@VHSNEUSS
SUMMARY:Leseführerschein Alpha-Projekt Beratung 5 (261S909) 
LOCATION:Romaneum, Raum 1.09, Brückstr. 1, 41460 Neuss
END:VEVENT
BEGIN:VEVENT
DTSTAMP:20260424T011135
DTSTART;TZID=Europe/Berlin:20260626T150000
DTEND;TZID=Europe/Berlin:20260626T163000
UID:261S909-20260626T150000@VHSNEUSS
SUMMARY:Leseführerschein Alpha-Projekt Beratung 5 (261S909) 
LOCATION:Romaneum, Raum 1.10, Brückstr. 1, 41460 Neuss
END:VEVENT
BEGIN:VEVENT
DTSTAMP:20260424T011135
DTSTART;TZID=Europe/Berlin:20260701T160000
DTEND;TZID=Europe/Berlin:20260701T173000
UID:261S909-20260701T160000@VHSNEUSS
SUMMARY:Leseführerschein Alpha-Projekt Beratung 5 (261S909) 
LOCATION:Romaneum, Raum 1.09, Brückstr. 1, 41460 Neuss
END:VEVENT
BEGIN:VEVENT
DTSTAMP:20260424T011135
DTSTART;TZID=Europe/Berlin:20260703T150000
DTEND;TZID=Europe/Berlin:20260703T163000
UID:261S909-20260703T150000@VHSNEUSS
SUMMARY:Leseführerschein Alpha-Projekt Beratung 5 (261S909) 
LOCATION:Romaneum, Raum 1.10, Brückstr. 1, 41460 Neuss
END:VEVENT
BEGIN:VEVENT
DTSTAMP:20260424T011135
DTSTART;TZID=Europe/Berlin:20260708T160000
DTEND;TZID=Europe/Berlin:20260708T173000
UID:261S909-20260708T160000@VHSNEUSS
SUMMARY:Leseführerschein Alpha-Projekt Beratung 5 (261S909) 
LOCATION:Romaneum, Raum 1.09, Brückstr. 1, 41460 Neuss
END:VEVENT
BEGIN:VEVENT
DTSTAMP:20260424T011135
DTSTART;TZID=Europe/Berlin:20260710T150000
DTEND;TZID=Europe/Berlin:20260710T163000
UID:261S909-20260710T150000@VHSNEUSS
SUMMARY:Leseführerschein Alpha-Projekt Beratung 5 (261S909) 
LOCATION:Romaneum, Raum 1.10, Brückstr. 1, 41460 Neuss
END:VEVENT
BEGIN:VEVENT
DTSTAMP:20260424T011135
DTSTART;TZID=Europe/Berlin:20260715T160000
DTEND;TZID=Europe/Berlin:20260715T173000
UID:261S909-20260715T160000@VHSNEUSS
SUMMARY:Leseführerschein Alpha-Projekt Beratung 5 (261S909) 
LOCATION:Romaneum, Raum 1.09, Brückstr. 1, 41460 Neuss
END:VEVENT
BEGIN:VEVENT
DTSTAMP:20260424T011135
DTSTART;TZID=Europe/Berlin:20260717T150000
DTEND;TZID=Europe/Berlin:20260717T163000
UID:261S909-20260717T150000@VHSNEUSS
SUMMARY:Leseführerschein Alpha-Projekt Beratung 5 (261S909) 
LOCATION:Romaneum, Raum 1.10, Brückstr. 1, 41460 Neuss
END:VEVENT
END:VCALENDAR