BEGIN:VCALENDAR
VERSION:2.0
PRODID:https://www.kufer.de/kuferweb / DE
METHOD:PUBLISH
CALSCALE:GREGORIAN
X-WR-TIMEZONE:Europe/Berlin
BEGIN:VTIMEZONE
TZID:Europe/Berlin
X-LIC-LOCATION:Europe/Berlin
BEGIN:DAYLIGHT
TZOFFSETFROM:+0100
TZOFFSETTO:+0200
TZNAME:CEST
DTSTART:19700329T020000
RRULE:FREQ=YEARLY;INTERVAL=1;BYDAY=-1SU;BYMONTH=3
END:DAYLIGHT
BEGIN:STANDARD
TZOFFSETFROM:+0200
TZOFFSETTO:+0100
TZNAME:CET
DTSTART:19701025T030000
RRULE:FREQ=YEARLY;INTERVAL=1;BYDAY=-1SU;BYMONTH=10
END:STANDARD
END:VTIMEZONE
BEGIN:VEVENT
DTSTAMP:20260423T202533
DTSTART;TZID=Europe/Berlin:20260203T173000
DTEND;TZID=Europe/Berlin:20260203T194500
UID:261S911-20260203T173000@VHSNEUSS
SUMMARY:Lesen und Schreiben von Anfang an (261S911) 
LOCATION:Quirinus-Gymnasium Raum A 0.013, Sternstr. 49, 41460 Neuss
END:VEVENT
BEGIN:VEVENT
DTSTAMP:20260423T202533
DTSTART;TZID=Europe/Berlin:20260210T173000
DTEND;TZID=Europe/Berlin:20260210T194500
UID:261S911-20260210T173000@VHSNEUSS
SUMMARY:Lesen und Schreiben von Anfang an (261S911) 
LOCATION:Quirinus-Gymnasium Raum A 0.013, Sternstr. 49, 41460 Neuss
END:VEVENT
BEGIN:VEVENT
DTSTAMP:20260423T202533
DTSTART;TZID=Europe/Berlin:20260224T173000
DTEND;TZID=Europe/Berlin:20260224T194500
UID:261S911-20260224T173000@VHSNEUSS
SUMMARY:Lesen und Schreiben von Anfang an (261S911) 
LOCATION:Quirinus-Gymnasium Raum A 0.013, Sternstr. 49, 41460 Neuss
END:VEVENT
BEGIN:VEVENT
DTSTAMP:20260423T202533
DTSTART;TZID=Europe/Berlin:20260303T173000
DTEND;TZID=Europe/Berlin:20260303T194500
UID:261S911-20260303T173000@VHSNEUSS
SUMMARY:Lesen und Schreiben von Anfang an (261S911) 
LOCATION:Quirinus-Gymnasium Raum A 0.013, Sternstr. 49, 41460 Neuss
END:VEVENT
BEGIN:VEVENT
DTSTAMP:20260423T202533
DTSTART;TZID=Europe/Berlin:20260310T173000
DTEND;TZID=Europe/Berlin:20260310T194500
UID:261S911-20260310T173000@VHSNEUSS
SUMMARY:Lesen und Schreiben von Anfang an (261S911) 
LOCATION:Quirinus-Gymnasium Raum A 0.013, Sternstr. 49, 41460 Neuss
END:VEVENT
BEGIN:VEVENT
DTSTAMP:20260423T202533
DTSTART;TZID=Europe/Berlin:20260317T173000
DTEND;TZID=Europe/Berlin:20260317T194500
UID:261S911-20260317T173000@VHSNEUSS
DESCRIPTION:Artikel
SUMMARY:Lesen und Schreiben von Anfang an (261S911) 
LOCATION:Quirinus-Gymnasium Raum A 0.013, Sternstr. 49, 41460 Neuss
END:VEVENT
BEGIN:VEVENT
DTSTAMP:20260423T202533
DTSTART;TZID=Europe/Berlin:20260324T173000
DTEND;TZID=Europe/Berlin:20260324T194500
UID:261S911-20260324T173000@VHSNEUSS
DESCRIPTION:Lesen und schreiben
SUMMARY:Lesen und Schreiben von Anfang an (261S911) 
LOCATION:Quirinus-Gymnasium Raum A 0.013, Sternstr. 49, 41460 Neuss
END:VEVENT
BEGIN:VEVENT
DTSTAMP:20260423T202533
DTSTART;TZID=Europe/Berlin:20260414T173000
DTEND;TZID=Europe/Berlin:20260414T194500
UID:261S911-20260414T173000@VHSNEUSS
SUMMARY:Lesen und Schreiben von Anfang an (261S911) 
LOCATION:Quirinus-Gymnasium Raum A 0.013, Sternstr. 49, 41460 Neuss
END:VEVENT
BEGIN:VEVENT
DTSTAMP:20260423T202533
DTSTART;TZID=Europe/Berlin:20260421T173000
DTEND;TZID=Europe/Berlin:20260421T194500
UID:261S911-20260421T173000@VHSNEUSS
SUMMARY:Lesen und Schreiben von Anfang an (261S911) 
LOCATION:Quirinus-Gymnasium Raum A 0.013, Sternstr. 49, 41460 Neuss
END:VEVENT
BEGIN:VEVENT
DTSTAMP:20260423T202533
DTSTART;TZID=Europe/Berlin:20260428T173000
DTEND;TZID=Europe/Berlin:20260428T194500
UID:261S911-20260428T173000@VHSNEUSS
SUMMARY:Lesen und Schreiben von Anfang an (261S911) 
LOCATION:Quirinus-Gymnasium Raum A 0.013, Sternstr. 49, 41460 Neuss
END:VEVENT
BEGIN:VEVENT
DTSTAMP:20260423T202533
DTSTART;TZID=Europe/Berlin:20260505T173000
DTEND;TZID=Europe/Berlin:20260505T194500
UID:261S911-20260505T173000@VHSNEUSS
SUMMARY:Lesen und Schreiben von Anfang an (261S911) 
LOCATION:Quirinus-Gymnasium Raum A 0.013, Sternstr. 49, 41460 Neuss
END:VEVENT
BEGIN:VEVENT
DTSTAMP:20260423T202533
DTSTART;TZID=Europe/Berlin:20260512T173000
DTEND;TZID=Europe/Berlin:20260512T194500
UID:261S911-20260512T173000@VHSNEUSS
SUMMARY:Lesen und Schreiben von Anfang an (261S911) 
LOCATION:Quirinus-Gymnasium Raum A 0.013, Sternstr. 49, 41460 Neuss
END:VEVENT
BEGIN:VEVENT
DTSTAMP:20260423T202533
DTSTART;TZID=Europe/Berlin:20260519T173000
DTEND;TZID=Europe/Berlin:20260519T194500
UID:261S911-20260519T173000@VHSNEUSS
SUMMARY:Lesen und Schreiben von Anfang an (261S911) 
LOCATION:Quirinus-Gymnasium Raum A 0.013, Sternstr. 49, 41460 Neuss
END:VEVENT
BEGIN:VEVENT
DTSTAMP:20260423T202533
DTSTART;TZID=Europe/Berlin:20260602T173000
DTEND;TZID=Europe/Berlin:20260602T194500
UID:261S911-20260602T173000@VHSNEUSS
SUMMARY:Lesen und Schreiben von Anfang an (261S911) 
LOCATION:Quirinus-Gymnasium Raum A 0.013, Sternstr. 49, 41460 Neuss
END:VEVENT
BEGIN:VEVENT
DTSTAMP:20260423T202533
DTSTART;TZID=Europe/Berlin:20260609T173000
DTEND;TZID=Europe/Berlin:20260609T194500
UID:261S911-20260609T173000@VHSNEUSS
SUMMARY:Lesen und Schreiben von Anfang an (261S911) 
LOCATION:Quirinus-Gymnasium Raum A 0.013, Sternstr. 49, 41460 Neuss
END:VEVENT
BEGIN:VEVENT
DTSTAMP:20260423T202533
DTSTART;TZID=Europe/Berlin:20260616T173000
DTEND;TZID=Europe/Berlin:20260616T194500
UID:261S911-20260616T173000@VHSNEUSS
SUMMARY:Lesen und Schreiben von Anfang an (261S911) 
LOCATION:Quirinus-Gymnasium Raum A 0.013, Sternstr. 49, 41460 Neuss
END:VEVENT
BEGIN:VEVENT
DTSTAMP:20260423T202533
DTSTART;TZID=Europe/Berlin:20260623T173000
DTEND;TZID=Europe/Berlin:20260623T194500
UID:261S911-20260623T173000@VHSNEUSS
SUMMARY:Lesen und Schreiben von Anfang an (261S911) 
LOCATION:Quirinus-Gymnasium Raum A 0.013, Sternstr. 49, 41460 Neuss
END:VEVENT
BEGIN:VEVENT
DTSTAMP:20260423T202533
DTSTART;TZID=Europe/Berlin:20260630T173000
DTEND;TZID=Europe/Berlin:20260630T194500
UID:261S911-20260630T173000@VHSNEUSS
SUMMARY:Lesen und Schreiben von Anfang an (261S911) 
LOCATION:Quirinus-Gymnasium Raum A 0.013, Sternstr. 49, 41460 Neuss
END:VEVENT
BEGIN:VEVENT
DTSTAMP:20260423T202533
DTSTART;TZID=Europe/Berlin:20260707T173000
DTEND;TZID=Europe/Berlin:20260707T194500
UID:261S911-20260707T173000@VHSNEUSS
SUMMARY:Lesen und Schreiben von Anfang an (261S911) 
LOCATION:Quirinus-Gymnasium Raum A 0.013, Sternstr. 49, 41460 Neuss
END:VEVENT
BEGIN:VEVENT
DTSTAMP:20260423T202533
DTSTART;TZID=Europe/Berlin:20260714T173000
DTEND;TZID=Europe/Berlin:20260714T194500
UID:261S911-20260714T173000@VHSNEUSS
SUMMARY:Lesen und Schreiben von Anfang an (261S911) 
LOCATION:Quirinus-Gymnasium Raum A 0.013, Sternstr. 49, 41460 Neuss
END:VEVENT
END:VCALENDAR