BEGIN:VCALENDAR
VERSION:2.0
PRODID:https://www.kufer.de/kuferweb / DE
METHOD:PUBLISH
CALSCALE:GREGORIAN
X-WR-TIMEZONE:Europe/Berlin
BEGIN:VTIMEZONE
TZID:Europe/Berlin
X-LIC-LOCATION:Europe/Berlin
BEGIN:DAYLIGHT
TZOFFSETFROM:+0100
TZOFFSETTO:+0200
TZNAME:CEST
DTSTART:19700329T020000
RRULE:FREQ=YEARLY;INTERVAL=1;BYDAY=-1SU;BYMONTH=3
END:DAYLIGHT
BEGIN:STANDARD
TZOFFSETFROM:+0200
TZOFFSETTO:+0100
TZNAME:CET
DTSTART:19701025T030000
RRULE:FREQ=YEARLY;INTERVAL=1;BYDAY=-1SU;BYMONTH=10
END:STANDARD
END:VTIMEZONE
BEGIN:VEVENT
DTSTAMP:20260423T202514
DTSTART;TZID=Europe/Berlin:20260202T170000
DTEND;TZID=Europe/Berlin:20260202T201500
UID:261S920-20260202T170000@VHSNEUSS
SUMMARY:Flüchtlingskurs Deutsch für Anfänger*innen (261S920) 
LOCATION:Quirinus-Gymnasium Raum A 1.017, Sternstr. 49, 41460 Neuss
END:VEVENT
BEGIN:VEVENT
DTSTAMP:20260423T202514
DTSTART;TZID=Europe/Berlin:20260204T170000
DTEND;TZID=Europe/Berlin:20260204T201500
UID:261S920-20260204T170000@VHSNEUSS
SUMMARY:Flüchtlingskurs Deutsch für Anfänger*innen (261S920) 
LOCATION:Quirinus-Gymnasium Raum A 1.017, Sternstr. 49, 41460 Neuss
END:VEVENT
BEGIN:VEVENT
DTSTAMP:20260423T202514
DTSTART;TZID=Europe/Berlin:20260209T170000
DTEND;TZID=Europe/Berlin:20260209T201500
UID:261S920-20260209T170000@VHSNEUSS
SUMMARY:Flüchtlingskurs Deutsch für Anfänger*innen (261S920) 
LOCATION:Quirinus-Gymnasium Raum A 1.017, Sternstr. 49, 41460 Neuss
END:VEVENT
BEGIN:VEVENT
DTSTAMP:20260423T202514
DTSTART;TZID=Europe/Berlin:20260211T170000
DTEND;TZID=Europe/Berlin:20260211T201500
UID:261S920-20260211T170000@VHSNEUSS
SUMMARY:Flüchtlingskurs Deutsch für Anfänger*innen (261S920) 
LOCATION:Quirinus-Gymnasium Raum A 1.017, Sternstr. 49, 41460 Neuss
END:VEVENT
BEGIN:VEVENT
DTSTAMP:20260423T202514
DTSTART;TZID=Europe/Berlin:20260223T170000
DTEND;TZID=Europe/Berlin:20260223T201500
UID:261S920-20260223T170000@VHSNEUSS
SUMMARY:Flüchtlingskurs Deutsch für Anfänger*innen (261S920) 
LOCATION:Quirinus-Gymnasium Raum A 1.017, Sternstr. 49, 41460 Neuss
END:VEVENT
BEGIN:VEVENT
DTSTAMP:20260423T202514
DTSTART;TZID=Europe/Berlin:20260225T170000
DTEND;TZID=Europe/Berlin:20260225T201500
UID:261S920-20260225T170000@VHSNEUSS
SUMMARY:Flüchtlingskurs Deutsch für Anfänger*innen (261S920) 
LOCATION:Quirinus-Gymnasium Raum A 1.017, Sternstr. 49, 41460 Neuss
END:VEVENT
BEGIN:VEVENT
DTSTAMP:20260423T202514
DTSTART;TZID=Europe/Berlin:20260302T170000
DTEND;TZID=Europe/Berlin:20260302T201500
UID:261S920-20260302T170000@VHSNEUSS
SUMMARY:Flüchtlingskurs Deutsch für Anfänger*innen (261S920) 
LOCATION:Quirinus-Gymnasium Raum A 1.017, Sternstr. 49, 41460 Neuss
END:VEVENT
BEGIN:VEVENT
DTSTAMP:20260423T202514
DTSTART;TZID=Europe/Berlin:20260304T170000
DTEND;TZID=Europe/Berlin:20260304T201500
UID:261S920-20260304T170000@VHSNEUSS
SUMMARY:Flüchtlingskurs Deutsch für Anfänger*innen (261S920) 
LOCATION:Quirinus-Gymnasium Raum A 1.017, Sternstr. 49, 41460 Neuss
END:VEVENT
BEGIN:VEVENT
DTSTAMP:20260423T202514
DTSTART;TZID=Europe/Berlin:20260310T170000
DTEND;TZID=Europe/Berlin:20260310T201500
UID:261S920-20260310T170000@VHSNEUSS
SUMMARY:Flüchtlingskurs Deutsch für Anfänger*innen (261S920) 
LOCATION:Quirinus-Gymnasium Raum A 1.017, Sternstr. 49, 41460 Neuss
END:VEVENT
BEGIN:VEVENT
DTSTAMP:20260423T202514
DTSTART;TZID=Europe/Berlin:20260312T170000
DTEND;TZID=Europe/Berlin:20260312T201500
UID:261S920-20260312T170000@VHSNEUSS
SUMMARY:Flüchtlingskurs Deutsch für Anfänger*innen (261S920) 
LOCATION:Quirinus-Gymnasium Raum A 1.017, Sternstr. 49, 41460 Neuss
END:VEVENT
BEGIN:VEVENT
DTSTAMP:20260423T202514
DTSTART;TZID=Europe/Berlin:20260317T170000
DTEND;TZID=Europe/Berlin:20260317T201500
UID:261S920-20260317T170000@VHSNEUSS
SUMMARY:Flüchtlingskurs Deutsch für Anfänger*innen (261S920) 
LOCATION:Quirinus-Gymnasium Raum A 1.017, Sternstr. 49, 41460 Neuss
END:VEVENT
BEGIN:VEVENT
DTSTAMP:20260423T202514
DTSTART;TZID=Europe/Berlin:20260319T170000
DTEND;TZID=Europe/Berlin:20260319T201500
UID:261S920-20260319T170000@VHSNEUSS
SUMMARY:Flüchtlingskurs Deutsch für Anfänger*innen (261S920) 
LOCATION:Quirinus-Gymnasium Raum A 1.017, Sternstr. 49, 41460 Neuss
END:VEVENT
BEGIN:VEVENT
DTSTAMP:20260423T202514
DTSTART;TZID=Europe/Berlin:20260324T170000
DTEND;TZID=Europe/Berlin:20260324T201500
UID:261S920-20260324T170000@VHSNEUSS
SUMMARY:Flüchtlingskurs Deutsch für Anfänger*innen (261S920) 
LOCATION:Quirinus-Gymnasium Raum A 1.017, Sternstr. 49, 41460 Neuss
END:VEVENT
BEGIN:VEVENT
DTSTAMP:20260423T202514
DTSTART;TZID=Europe/Berlin:20260326T170000
DTEND;TZID=Europe/Berlin:20260326T201500
UID:261S920-20260326T170000@VHSNEUSS
SUMMARY:Flüchtlingskurs Deutsch für Anfänger*innen (261S920) 
LOCATION:Quirinus-Gymnasium Raum A 1.017, Sternstr. 49, 41460 Neuss
END:VEVENT
BEGIN:VEVENT
DTSTAMP:20260423T202514
DTSTART;TZID=Europe/Berlin:20260414T170000
DTEND;TZID=Europe/Berlin:20260414T201500
UID:261S920-20260414T170000@VHSNEUSS
SUMMARY:Flüchtlingskurs Deutsch für Anfänger*innen (261S920) 
LOCATION:Quirinus-Gymnasium Raum A 1.017, Sternstr. 49, 41460 Neuss
END:VEVENT
BEGIN:VEVENT
DTSTAMP:20260423T202514
DTSTART;TZID=Europe/Berlin:20260416T170000
DTEND;TZID=Europe/Berlin:20260416T201500
UID:261S920-20260416T170000@VHSNEUSS
SUMMARY:Flüchtlingskurs Deutsch für Anfänger*innen (261S920) 
LOCATION:Quirinus-Gymnasium Raum A 1.017, Sternstr. 49, 41460 Neuss
END:VEVENT
BEGIN:VEVENT
DTSTAMP:20260423T202514
DTSTART;TZID=Europe/Berlin:20260421T170000
DTEND;TZID=Europe/Berlin:20260421T201500
UID:261S920-20260421T170000@VHSNEUSS
SUMMARY:Flüchtlingskurs Deutsch für Anfänger*innen (261S920) 
LOCATION:Quirinus-Gymnasium Raum A 1.017, Sternstr. 49, 41460 Neuss
END:VEVENT
BEGIN:VEVENT
DTSTAMP:20260423T202514
DTSTART;TZID=Europe/Berlin:20260428T170000
DTEND;TZID=Europe/Berlin:20260428T201500
UID:261S920-20260428T170000@VHSNEUSS
SUMMARY:Flüchtlingskurs Deutsch für Anfänger*innen (261S920) 
LOCATION:Quirinus-Gymnasium Raum A 1.017, Sternstr. 49, 41460 Neuss
END:VEVENT
BEGIN:VEVENT
DTSTAMP:20260423T202514
DTSTART;TZID=Europe/Berlin:20260430T170000
DTEND;TZID=Europe/Berlin:20260430T201500
UID:261S920-20260430T170000@VHSNEUSS
SUMMARY:Flüchtlingskurs Deutsch für Anfänger*innen (261S920) 
LOCATION:Quirinus-Gymnasium Raum A 1.017, Sternstr. 49, 41460 Neuss
END:VEVENT
BEGIN:VEVENT
DTSTAMP:20260423T202514
DTSTART;TZID=Europe/Berlin:20260505T170000
DTEND;TZID=Europe/Berlin:20260505T201500
UID:261S920-20260505T170000@VHSNEUSS
SUMMARY:Flüchtlingskurs Deutsch für Anfänger*innen (261S920) 
LOCATION:Quirinus-Gymnasium Raum A 1.017, Sternstr. 49, 41460 Neuss
END:VEVENT
BEGIN:VEVENT
DTSTAMP:20260423T202514
DTSTART;TZID=Europe/Berlin:20260507T170000
DTEND;TZID=Europe/Berlin:20260507T201500
UID:261S920-20260507T170000@VHSNEUSS
SUMMARY:Flüchtlingskurs Deutsch für Anfänger*innen (261S920) 
LOCATION:Quirinus-Gymnasium Raum A 1.017, Sternstr. 49, 41460 Neuss
END:VEVENT
BEGIN:VEVENT
DTSTAMP:20260423T202514
DTSTART;TZID=Europe/Berlin:20260512T170000
DTEND;TZID=Europe/Berlin:20260512T201500
UID:261S920-20260512T170000@VHSNEUSS
SUMMARY:Flüchtlingskurs Deutsch für Anfänger*innen (261S920) 
LOCATION:Quirinus-Gymnasium Raum A 1.017, Sternstr. 49, 41460 Neuss
END:VEVENT
BEGIN:VEVENT
DTSTAMP:20260423T202514
DTSTART;TZID=Europe/Berlin:20260519T170000
DTEND;TZID=Europe/Berlin:20260519T201500
UID:261S920-20260519T170000@VHSNEUSS
SUMMARY:Flüchtlingskurs Deutsch für Anfänger*innen (261S920) 
LOCATION:Quirinus-Gymnasium Raum A 1.017, Sternstr. 49, 41460 Neuss
END:VEVENT
BEGIN:VEVENT
DTSTAMP:20260423T202514
DTSTART;TZID=Europe/Berlin:20260521T170000
DTEND;TZID=Europe/Berlin:20260521T201500
UID:261S920-20260521T170000@VHSNEUSS
SUMMARY:Flüchtlingskurs Deutsch für Anfänger*innen (261S920) 
LOCATION:Quirinus-Gymnasium Raum A 1.017, Sternstr. 49, 41460 Neuss
END:VEVENT
BEGIN:VEVENT
DTSTAMP:20260423T202514
DTSTART;TZID=Europe/Berlin:20260528T170000
DTEND;TZID=Europe/Berlin:20260528T201500
UID:261S920-20260528T170000@VHSNEUSS
SUMMARY:Flüchtlingskurs Deutsch für Anfänger*innen (261S920) 
LOCATION:Quirinus-Gymnasium Raum A 1.017, Sternstr. 49, 41460 Neuss
END:VEVENT
BEGIN:VEVENT
DTSTAMP:20260423T202514
DTSTART;TZID=Europe/Berlin:20260602T170000
DTEND;TZID=Europe/Berlin:20260602T201500
UID:261S920-20260602T170000@VHSNEUSS
SUMMARY:Flüchtlingskurs Deutsch für Anfänger*innen (261S920) 
LOCATION:Quirinus-Gymnasium Raum A 1.017, Sternstr. 49, 41460 Neuss
END:VEVENT
BEGIN:VEVENT
DTSTAMP:20260423T202514
DTSTART;TZID=Europe/Berlin:20260609T170000
DTEND;TZID=Europe/Berlin:20260609T201500
UID:261S920-20260609T170000@VHSNEUSS
SUMMARY:Flüchtlingskurs Deutsch für Anfänger*innen (261S920) 
LOCATION:Quirinus-Gymnasium Raum A 1.017, Sternstr. 49, 41460 Neuss
END:VEVENT
BEGIN:VEVENT
DTSTAMP:20260423T202514
DTSTART;TZID=Europe/Berlin:20260611T170000
DTEND;TZID=Europe/Berlin:20260611T201500
UID:261S920-20260611T170000@VHSNEUSS
SUMMARY:Flüchtlingskurs Deutsch für Anfänger*innen (261S920) 
LOCATION:Quirinus-Gymnasium Raum A 1.017, Sternstr. 49, 41460 Neuss
END:VEVENT
BEGIN:VEVENT
DTSTAMP:20260423T202514
DTSTART;TZID=Europe/Berlin:20260616T170000
DTEND;TZID=Europe/Berlin:20260616T201500
UID:261S920-20260616T170000@VHSNEUSS
SUMMARY:Flüchtlingskurs Deutsch für Anfänger*innen (261S920) 
LOCATION:Quirinus-Gymnasium Raum A 1.017, Sternstr. 49, 41460 Neuss
END:VEVENT
BEGIN:VEVENT
DTSTAMP:20260423T202514
DTSTART;TZID=Europe/Berlin:20260618T170000
DTEND;TZID=Europe/Berlin:20260618T201500
UID:261S920-20260618T170000@VHSNEUSS
SUMMARY:Flüchtlingskurs Deutsch für Anfänger*innen (261S920) 
LOCATION:Quirinus-Gymnasium Raum A 1.017, Sternstr. 49, 41460 Neuss
END:VEVENT
BEGIN:VEVENT
DTSTAMP:20260423T202514
DTSTART;TZID=Europe/Berlin:20260623T170000
DTEND;TZID=Europe/Berlin:20260623T201500
UID:261S920-20260623T170000@VHSNEUSS
SUMMARY:Flüchtlingskurs Deutsch für Anfänger*innen (261S920) 
LOCATION:Quirinus-Gymnasium Raum A 1.017, Sternstr. 49, 41460 Neuss
END:VEVENT
BEGIN:VEVENT
DTSTAMP:20260423T202514
DTSTART;TZID=Europe/Berlin:20260625T170000
DTEND;TZID=Europe/Berlin:20260625T201500
UID:261S920-20260625T170000@VHSNEUSS
SUMMARY:Flüchtlingskurs Deutsch für Anfänger*innen (261S920) 
LOCATION:Quirinus-Gymnasium Raum A 1.017, Sternstr. 49, 41460 Neuss
END:VEVENT
BEGIN:VEVENT
DTSTAMP:20260423T202514
DTSTART;TZID=Europe/Berlin:20260630T170000
DTEND;TZID=Europe/Berlin:20260630T201500
UID:261S920-20260630T170000@VHSNEUSS
SUMMARY:Flüchtlingskurs Deutsch für Anfänger*innen (261S920) 
LOCATION:Quirinus-Gymnasium Raum A 1.017, Sternstr. 49, 41460 Neuss
END:VEVENT
BEGIN:VEVENT
DTSTAMP:20260423T202514
DTSTART;TZID=Europe/Berlin:20260702T170000
DTEND;TZID=Europe/Berlin:20260702T201500
UID:261S920-20260702T170000@VHSNEUSS
SUMMARY:Flüchtlingskurs Deutsch für Anfänger*innen (261S920) 
LOCATION:Quirinus-Gymnasium Raum A 1.017, Sternstr. 49, 41460 Neuss
END:VEVENT
BEGIN:VEVENT
DTSTAMP:20260423T202514
DTSTART;TZID=Europe/Berlin:20260707T170000
DTEND;TZID=Europe/Berlin:20260707T201500
UID:261S920-20260707T170000@VHSNEUSS
SUMMARY:Flüchtlingskurs Deutsch für Anfänger*innen (261S920) 
LOCATION:Quirinus-Gymnasium Raum A 1.017, Sternstr. 49, 41460 Neuss
END:VEVENT
BEGIN:VEVENT
DTSTAMP:20260423T202514
DTSTART;TZID=Europe/Berlin:20260709T170000
DTEND;TZID=Europe/Berlin:20260709T201500
UID:261S920-20260709T170000@VHSNEUSS
SUMMARY:Flüchtlingskurs Deutsch für Anfänger*innen (261S920) 
LOCATION:Quirinus-Gymnasium Raum A 1.017, Sternstr. 49, 41460 Neuss
END:VEVENT
BEGIN:VEVENT
DTSTAMP:20260423T202514
DTSTART;TZID=Europe/Berlin:20260714T170000
DTEND;TZID=Europe/Berlin:20260714T201500
UID:261S920-20260714T170000@VHSNEUSS
SUMMARY:Flüchtlingskurs Deutsch für Anfänger*innen (261S920) 
LOCATION:Quirinus-Gymnasium Raum A 1.017, Sternstr. 49, 41460 Neuss
END:VEVENT
BEGIN:VEVENT
DTSTAMP:20260423T202514
DTSTART;TZID=Europe/Berlin:20260716T170000
DTEND;TZID=Europe/Berlin:20260716T201500
UID:261S920-20260716T170000@VHSNEUSS
SUMMARY:Flüchtlingskurs Deutsch für Anfänger*innen (261S920) 
LOCATION:Quirinus-Gymnasium Raum A 1.017, Sternstr. 49, 41460 Neuss
END:VEVENT
END:VCALENDAR