BEGIN:VCALENDAR
VERSION:2.0
PRODID:https://www.kufer.de/kuferweb / DE
METHOD:PUBLISH
CALSCALE:GREGORIAN
X-WR-TIMEZONE:Europe/Berlin
BEGIN:VTIMEZONE
TZID:Europe/Berlin
X-LIC-LOCATION:Europe/Berlin
BEGIN:DAYLIGHT
TZOFFSETFROM:+0100
TZOFFSETTO:+0200
TZNAME:CEST
DTSTART:19700329T020000
RRULE:FREQ=YEARLY;INTERVAL=1;BYDAY=-1SU;BYMONTH=3
END:DAYLIGHT
BEGIN:STANDARD
TZOFFSETFROM:+0200
TZOFFSETTO:+0100
TZNAME:CET
DTSTART:19701025T030000
RRULE:FREQ=YEARLY;INTERVAL=1;BYDAY=-1SU;BYMONTH=10
END:STANDARD
END:VTIMEZONE
BEGIN:VEVENT
DTSTAMP:20260423T202650
DTSTART;TZID=Europe/Berlin:20260205T083000
DTEND;TZID=Europe/Berlin:20260205T114500
UID:261S922-20260205T083000@VHSNEUSS
SUMMARY:Alphabetisierungskurs für Migrantinnen und Migranten (261S922) 
LOCATION:Romaneum, Raum 2.25, Brückstr. 1, 41460 Neuss
END:VEVENT
BEGIN:VEVENT
DTSTAMP:20260423T202650
DTSTART;TZID=Europe/Berlin:20260219T083000
DTEND;TZID=Europe/Berlin:20260219T114500
UID:261S922-20260219T083000@VHSNEUSS
SUMMARY:Alphabetisierungskurs für Migrantinnen und Migranten (261S922) 
LOCATION:Romaneum, Raum 2.25, Brückstr. 1, 41460 Neuss
END:VEVENT
BEGIN:VEVENT
DTSTAMP:20260423T202650
DTSTART;TZID=Europe/Berlin:20260226T083000
DTEND;TZID=Europe/Berlin:20260226T114500
UID:261S922-20260226T083000@VHSNEUSS
SUMMARY:Alphabetisierungskurs für Migrantinnen und Migranten (261S922) 
LOCATION:Romaneum, Raum 2.25, Brückstr. 1, 41460 Neuss
END:VEVENT
BEGIN:VEVENT
DTSTAMP:20260423T202650
DTSTART;TZID=Europe/Berlin:20260305T083000
DTEND;TZID=Europe/Berlin:20260305T114500
UID:261S922-20260305T083000@VHSNEUSS
SUMMARY:Alphabetisierungskurs für Migrantinnen und Migranten (261S922) 
LOCATION:Romaneum, Raum 2.25, Brückstr. 1, 41460 Neuss
END:VEVENT
BEGIN:VEVENT
DTSTAMP:20260423T202650
DTSTART;TZID=Europe/Berlin:20260312T083000
DTEND;TZID=Europe/Berlin:20260312T114500
UID:261S922-20260312T083000@VHSNEUSS
SUMMARY:Alphabetisierungskurs für Migrantinnen und Migranten (261S922) 
LOCATION:Romaneum, Raum 2.25, Brückstr. 1, 41460 Neuss
END:VEVENT
BEGIN:VEVENT
DTSTAMP:20260423T202650
DTSTART;TZID=Europe/Berlin:20260319T083000
DTEND;TZID=Europe/Berlin:20260319T114500
UID:261S922-20260319T083000@VHSNEUSS
SUMMARY:Alphabetisierungskurs für Migrantinnen und Migranten (261S922) 
LOCATION:Romaneum, Raum 2.25, Brückstr. 1, 41460 Neuss
END:VEVENT
BEGIN:VEVENT
DTSTAMP:20260423T202650
DTSTART;TZID=Europe/Berlin:20260326T083000
DTEND;TZID=Europe/Berlin:20260326T114500
UID:261S922-20260326T083000@VHSNEUSS
SUMMARY:Alphabetisierungskurs für Migrantinnen und Migranten (261S922) 
LOCATION:Romaneum, Raum 2.25, Brückstr. 1, 41460 Neuss
END:VEVENT
BEGIN:VEVENT
DTSTAMP:20260423T202650
DTSTART;TZID=Europe/Berlin:20260423T083000
DTEND;TZID=Europe/Berlin:20260423T114500
UID:261S922-20260423T083000@VHSNEUSS
SUMMARY:Alphabetisierungskurs für Migrantinnen und Migranten (261S922) 
LOCATION:Romaneum, Raum 2.25, Brückstr. 1, 41460 Neuss
END:VEVENT
BEGIN:VEVENT
DTSTAMP:20260423T202650
DTSTART;TZID=Europe/Berlin:20260430T083000
DTEND;TZID=Europe/Berlin:20260430T114500
UID:261S922-20260430T083000@VHSNEUSS
SUMMARY:Alphabetisierungskurs für Migrantinnen und Migranten (261S922) 
LOCATION:Romaneum, Raum 2.25, Brückstr. 1, 41460 Neuss
END:VEVENT
BEGIN:VEVENT
DTSTAMP:20260423T202650
DTSTART;TZID=Europe/Berlin:20260507T083000
DTEND;TZID=Europe/Berlin:20260507T114500
UID:261S922-20260507T083000@VHSNEUSS
SUMMARY:Alphabetisierungskurs für Migrantinnen und Migranten (261S922) 
LOCATION:Romaneum, Raum 2.25, Brückstr. 1, 41460 Neuss
END:VEVENT
BEGIN:VEVENT
DTSTAMP:20260423T202650
DTSTART;TZID=Europe/Berlin:20260521T083000
DTEND;TZID=Europe/Berlin:20260521T114500
UID:261S922-20260521T083000@VHSNEUSS
SUMMARY:Alphabetisierungskurs für Migrantinnen und Migranten (261S922) 
LOCATION:Romaneum, Raum 2.25, Brückstr. 1, 41460 Neuss
END:VEVENT
BEGIN:VEVENT
DTSTAMP:20260423T202650
DTSTART;TZID=Europe/Berlin:20260528T083000
DTEND;TZID=Europe/Berlin:20260528T114500
UID:261S922-20260528T083000@VHSNEUSS
SUMMARY:Alphabetisierungskurs für Migrantinnen und Migranten (261S922) 
LOCATION:Romaneum, Raum 2.25, Brückstr. 1, 41460 Neuss
END:VEVENT
BEGIN:VEVENT
DTSTAMP:20260423T202650
DTSTART;TZID=Europe/Berlin:20260611T083000
DTEND;TZID=Europe/Berlin:20260611T114500
UID:261S922-20260611T083000@VHSNEUSS
SUMMARY:Alphabetisierungskurs für Migrantinnen und Migranten (261S922) 
LOCATION:Romaneum, Raum 2.25, Brückstr. 1, 41460 Neuss
END:VEVENT
BEGIN:VEVENT
DTSTAMP:20260423T202650
DTSTART;TZID=Europe/Berlin:20260618T083000
DTEND;TZID=Europe/Berlin:20260618T114500
UID:261S922-20260618T083000@VHSNEUSS
SUMMARY:Alphabetisierungskurs für Migrantinnen und Migranten (261S922) 
LOCATION:Romaneum, Raum 2.25, Brückstr. 1, 41460 Neuss
END:VEVENT
BEGIN:VEVENT
DTSTAMP:20260423T202650
DTSTART;TZID=Europe/Berlin:20260625T083000
DTEND;TZID=Europe/Berlin:20260625T114500
UID:261S922-20260625T083000@VHSNEUSS
SUMMARY:Alphabetisierungskurs für Migrantinnen und Migranten (261S922) 
LOCATION:Romaneum, Raum 2.25, Brückstr. 1, 41460 Neuss
END:VEVENT
BEGIN:VEVENT
DTSTAMP:20260423T202650
DTSTART;TZID=Europe/Berlin:20260702T083000
DTEND;TZID=Europe/Berlin:20260702T114500
UID:261S922-20260702T083000@VHSNEUSS
SUMMARY:Alphabetisierungskurs für Migrantinnen und Migranten (261S922) 
LOCATION:Romaneum, Raum 2.25, Brückstr. 1, 41460 Neuss
END:VEVENT
BEGIN:VEVENT
DTSTAMP:20260423T202650
DTSTART;TZID=Europe/Berlin:20260709T083000
DTEND;TZID=Europe/Berlin:20260709T114500
UID:261S922-20260709T083000@VHSNEUSS
SUMMARY:Alphabetisierungskurs für Migrantinnen und Migranten (261S922) 
LOCATION:Romaneum, Raum 2.25, Brückstr. 1, 41460 Neuss
END:VEVENT
BEGIN:VEVENT
DTSTAMP:20260423T202650
DTSTART;TZID=Europe/Berlin:20260716T083000
DTEND;TZID=Europe/Berlin:20260716T114500
UID:261S922-20260716T083000@VHSNEUSS
SUMMARY:Alphabetisierungskurs für Migrantinnen und Migranten (261S922) 
LOCATION:Romaneum, Raum 2.25, Brückstr. 1, 41460 Neuss
END:VEVENT
END:VCALENDAR