BEGIN:VCALENDAR
VERSION:2.0
PRODID:https://www.kufer.de/kuferweb / DE
METHOD:PUBLISH
CALSCALE:GREGORIAN
X-WR-TIMEZONE:Europe/Berlin
BEGIN:VTIMEZONE
TZID:Europe/Berlin
X-LIC-LOCATION:Europe/Berlin
BEGIN:DAYLIGHT
TZOFFSETFROM:+0100
TZOFFSETTO:+0200
TZNAME:CEST
DTSTART:19700329T020000
RRULE:FREQ=YEARLY;INTERVAL=1;BYDAY=-1SU;BYMONTH=3
END:DAYLIGHT
BEGIN:STANDARD
TZOFFSETFROM:+0200
TZOFFSETTO:+0100
TZNAME:CET
DTSTART:19701025T030000
RRULE:FREQ=YEARLY;INTERVAL=1;BYDAY=-1SU;BYMONTH=10
END:STANDARD
END:VTIMEZONE
BEGIN:VEVENT
DTSTAMP:20260421T193826
DTSTART;TZID=Europe/Berlin:20261121T100000
DTEND;TZID=Europe/Berlin:20261121T170000
UID:262B186-20261121T100000@VHSNEUSS
DESCRIPTION:Bitte Absprache mit Parallel-Kurs in 1.24: In beide Kurse sind 10 Laptops eingebucht, 1.24 braucht evt. mehr und 1.23 eher weniger.
SUMMARY:Next Level Bewerbung: Mit KI professionell punkten und Traumjob sichern (262B186) 
LOCATION:Romaneum, Raum 1.23, Brückstr. 1, 41460 Neuss
END:VEVENT
END:VCALENDAR