BEGIN:VCALENDAR
VERSION:2.0
PRODID:https://www.kufer.de/kuferweb / DE
METHOD:PUBLISH
CALSCALE:GREGORIAN
X-WR-TIMEZONE:Europe/Berlin
BEGIN:VTIMEZONE
TZID:Europe/Berlin
X-LIC-LOCATION:Europe/Berlin
BEGIN:DAYLIGHT
TZOFFSETFROM:+0100
TZOFFSETTO:+0200
TZNAME:CEST
DTSTART:19700329T020000
RRULE:FREQ=YEARLY;INTERVAL=1;BYDAY=-1SU;BYMONTH=3
END:DAYLIGHT
BEGIN:STANDARD
TZOFFSETFROM:+0200
TZOFFSETTO:+0100
TZNAME:CET
DTSTART:19701025T030000
RRULE:FREQ=YEARLY;INTERVAL=1;BYDAY=-1SU;BYMONTH=10
END:STANDARD
END:VTIMEZONE
BEGIN:VEVENT
DTSTAMP:20260422T164945
DTSTART;TZID=Europe/Berlin:20260908T153000
DTEND;TZID=Europe/Berlin:20260908T170000
UID:262C4413K-20260908T153000@VHSNEUSS
SUMMARY:Miteinander über Bücher reden (262C4413K) 
LOCATION:Romaneum, Raum 1.21, Brückstr. 1, 41460 Neuss
END:VEVENT
BEGIN:VEVENT
DTSTAMP:20260422T164945
DTSTART;TZID=Europe/Berlin:20261006T153000
DTEND;TZID=Europe/Berlin:20261006T170000
UID:262C4413K-20261006T153000@VHSNEUSS
SUMMARY:Miteinander über Bücher reden (262C4413K) 
LOCATION:Romaneum, Raum 1.21, Brückstr. 1, 41460 Neuss
END:VEVENT
BEGIN:VEVENT
DTSTAMP:20260422T164945
DTSTART;TZID=Europe/Berlin:20261103T153000
DTEND;TZID=Europe/Berlin:20261103T170000
UID:262C4413K-20261103T153000@VHSNEUSS
SUMMARY:Miteinander über Bücher reden (262C4413K) 
LOCATION:Romaneum, Raum 1.21, Brückstr. 1, 41460 Neuss
END:VEVENT
BEGIN:VEVENT
DTSTAMP:20260422T164945
DTSTART;TZID=Europe/Berlin:20261201T153000
DTEND;TZID=Europe/Berlin:20261201T170000
UID:262C4413K-20261201T153000@VHSNEUSS
SUMMARY:Miteinander über Bücher reden (262C4413K) 
LOCATION:Romaneum, Raum 1.21, Brückstr. 1, 41460 Neuss
END:VEVENT
BEGIN:VEVENT
DTSTAMP:20260422T164945
DTSTART;TZID=Europe/Berlin:20270105T153000
DTEND;TZID=Europe/Berlin:20270105T170000
UID:262C4413K-20270105T153000@VHSNEUSS
SUMMARY:Miteinander über Bücher reden (262C4413K) 
LOCATION:Romaneum, Raum 1.21, Brückstr. 1, 41460 Neuss
END:VEVENT
BEGIN:VEVENT
DTSTAMP:20260422T164945
DTSTART;TZID=Europe/Berlin:20270202T153000
DTEND;TZID=Europe/Berlin:20270202T170000
UID:262C4413K-20270202T153000@VHSNEUSS
SUMMARY:Miteinander über Bücher reden (262C4413K) 
LOCATION:Romaneum, Raum 1.21, Brückstr. 1, 41460 Neuss
END:VEVENT
END:VCALENDAR