BEGIN:VCALENDAR
VERSION:2.0
PRODID:https://www.kufer.de/kuferweb / DE
METHOD:PUBLISH
CALSCALE:GREGORIAN
X-WR-TIMEZONE:Europe/Berlin
BEGIN:VTIMEZONE
TZID:Europe/Berlin
X-LIC-LOCATION:Europe/Berlin
BEGIN:DAYLIGHT
TZOFFSETFROM:+0100
TZOFFSETTO:+0200
TZNAME:CEST
DTSTART:19700329T020000
RRULE:FREQ=YEARLY;INTERVAL=1;BYDAY=-1SU;BYMONTH=3
END:DAYLIGHT
BEGIN:STANDARD
TZOFFSETFROM:+0200
TZOFFSETTO:+0100
TZNAME:CET
DTSTART:19701025T030000
RRULE:FREQ=YEARLY;INTERVAL=1;BYDAY=-1SU;BYMONTH=10
END:STANDARD
END:VTIMEZONE
BEGIN:VEVENT
DTSTAMP:20260422T165501
DTSTART;TZID=Europe/Berlin:20260908T171500
DTEND;TZID=Europe/Berlin:20260908T184500
UID:262C4414K-20260908T171500@VHSNEUSS
SUMMARY:Miteinander über Bücher reden (262C4414K) 
LOCATION:Romaneum, Raum 1.21, Brückstr. 1, 41460 Neuss
END:VEVENT
BEGIN:VEVENT
DTSTAMP:20260422T165501
DTSTART;TZID=Europe/Berlin:20261006T171500
DTEND;TZID=Europe/Berlin:20261006T184500
UID:262C4414K-20261006T171500@VHSNEUSS
SUMMARY:Miteinander über Bücher reden (262C4414K) 
LOCATION:Romaneum, Raum 1.21, Brückstr. 1, 41460 Neuss
END:VEVENT
BEGIN:VEVENT
DTSTAMP:20260422T165501
DTSTART;TZID=Europe/Berlin:20261103T171500
DTEND;TZID=Europe/Berlin:20261103T184500
UID:262C4414K-20261103T171500@VHSNEUSS
SUMMARY:Miteinander über Bücher reden (262C4414K) 
LOCATION:Romaneum, Raum 1.21, Brückstr. 1, 41460 Neuss
END:VEVENT
BEGIN:VEVENT
DTSTAMP:20260422T165501
DTSTART;TZID=Europe/Berlin:20261201T171500
DTEND;TZID=Europe/Berlin:20261201T184500
UID:262C4414K-20261201T171500@VHSNEUSS
SUMMARY:Miteinander über Bücher reden (262C4414K) 
LOCATION:Romaneum, Raum 1.21, Brückstr. 1, 41460 Neuss
END:VEVENT
BEGIN:VEVENT
DTSTAMP:20260422T165501
DTSTART;TZID=Europe/Berlin:20270105T171500
DTEND;TZID=Europe/Berlin:20270105T184500
UID:262C4414K-20270105T171500@VHSNEUSS
SUMMARY:Miteinander über Bücher reden (262C4414K) 
LOCATION:Romaneum, Raum 1.21, Brückstr. 1, 41460 Neuss
END:VEVENT
BEGIN:VEVENT
DTSTAMP:20260422T165501
DTSTART;TZID=Europe/Berlin:20270202T171500
DTEND;TZID=Europe/Berlin:20270202T184500
UID:262C4414K-20270202T171500@VHSNEUSS
SUMMARY:Miteinander über Bücher reden (262C4414K) 
LOCATION:Romaneum, Raum 1.21, Brückstr. 1, 41460 Neuss
END:VEVENT
END:VCALENDAR