BEGIN:VCALENDAR
VERSION:2.0
PRODID:https://www.kufer.de/kuferweb / DE
METHOD:PUBLISH
CALSCALE:GREGORIAN
X-WR-TIMEZONE:Europe/Berlin
BEGIN:VTIMEZONE
TZID:Europe/Berlin
X-LIC-LOCATION:Europe/Berlin
BEGIN:DAYLIGHT
TZOFFSETFROM:+0100
TZOFFSETTO:+0200
TZNAME:CEST
DTSTART:19700329T020000
RRULE:FREQ=YEARLY;INTERVAL=1;BYDAY=-1SU;BYMONTH=3
END:DAYLIGHT
BEGIN:STANDARD
TZOFFSETFROM:+0200
TZOFFSETTO:+0100
TZNAME:CET
DTSTART:19701025T030000
RRULE:FREQ=YEARLY;INTERVAL=1;BYDAY=-1SU;BYMONTH=10
END:STANDARD
END:VTIMEZONE
BEGIN:VEVENT
DTSTAMP:20260421T171825
DTSTART;TZID=Europe/Berlin:20261012T090000
DTEND;TZID=Europe/Berlin:20261012T153000
UID:262G601610-20261012T090000@VHSNEUSS
SUMMARY:Bildungsurlaub: Herausfordernde Situationen spielerisch meistern – Humor und Intervention (262G601610) 
LOCATION:Romaneum, Raum E.27, Brückstr. 1, 41460 Neuss
END:VEVENT
BEGIN:VEVENT
DTSTAMP:20260421T171825
DTSTART;TZID=Europe/Berlin:20261013T090000
DTEND;TZID=Europe/Berlin:20261013T153000
UID:262G601610-20261013T090000@VHSNEUSS
SUMMARY:Bildungsurlaub: Herausfordernde Situationen spielerisch meistern – Humor und Intervention (262G601610) 
LOCATION:Romaneum, Raum E.27, Brückstr. 1, 41460 Neuss
END:VEVENT
BEGIN:VEVENT
DTSTAMP:20260421T171825
DTSTART;TZID=Europe/Berlin:20261014T090000
DTEND;TZID=Europe/Berlin:20261014T153000
UID:262G601610-20261014T090000@VHSNEUSS
SUMMARY:Bildungsurlaub: Herausfordernde Situationen spielerisch meistern – Humor und Intervention (262G601610) 
LOCATION:Romaneum, Raum E.27, Brückstr. 1, 41460 Neuss
END:VEVENT
BEGIN:VEVENT
DTSTAMP:20260421T171825
DTSTART;TZID=Europe/Berlin:20261015T090000
DTEND;TZID=Europe/Berlin:20261015T153000
UID:262G601610-20261015T090000@VHSNEUSS
SUMMARY:Bildungsurlaub: Herausfordernde Situationen spielerisch meistern – Humor und Intervention (262G601610) 
LOCATION:Romaneum, Raum E.27, Brückstr. 1, 41460 Neuss
END:VEVENT
BEGIN:VEVENT
DTSTAMP:20260421T171825
DTSTART;TZID=Europe/Berlin:20261016T090000
DTEND;TZID=Europe/Berlin:20261016T153000
UID:262G601610-20261016T090000@VHSNEUSS
SUMMARY:Bildungsurlaub: Herausfordernde Situationen spielerisch meistern – Humor und Intervention (262G601610) 
LOCATION:Romaneum, Raum E.27, Brückstr. 1, 41460 Neuss
END:VEVENT
END:VCALENDAR