BEGIN:VCALENDAR
VERSION:2.0
PRODID:https://www.kufer.de/kuferweb / DE
METHOD:PUBLISH
CALSCALE:GREGORIAN
X-WR-TIMEZONE:Europe/Berlin
BEGIN:VTIMEZONE
TZID:Europe/Berlin
X-LIC-LOCATION:Europe/Berlin
BEGIN:DAYLIGHT
TZOFFSETFROM:+0100
TZOFFSETTO:+0200
TZNAME:CEST
DTSTART:19700329T020000
RRULE:FREQ=YEARLY;INTERVAL=1;BYDAY=-1SU;BYMONTH=3
END:DAYLIGHT
BEGIN:STANDARD
TZOFFSETFROM:+0200
TZOFFSETTO:+0100
TZNAME:CET
DTSTART:19701025T030000
RRULE:FREQ=YEARLY;INTERVAL=1;BYDAY=-1SU;BYMONTH=10
END:STANDARD
END:VTIMEZONE
BEGIN:VEVENT
DTSTAMP:20260425T192424
DTSTART;TZID=Europe/Berlin:20261105T183000
DTEND;TZID=Europe/Berlin:20261105T204500
UID:262K701153-20261105T183000@VHSNEUSS
SUMMARY:Comic Portrait zeichnen – Achtsamer Kreativkurs für Einsteiger*innen (262K701153) 
LOCATION:Romaneum, Raum 2.05, Brückstr. 1, 41460 Neuss
END:VEVENT
BEGIN:VEVENT
DTSTAMP:20260425T192424
DTSTART;TZID=Europe/Berlin:20261112T183000
DTEND;TZID=Europe/Berlin:20261112T204500
UID:262K701153-20261112T183000@VHSNEUSS
SUMMARY:Comic Portrait zeichnen – Achtsamer Kreativkurs für Einsteiger*innen (262K701153) 
LOCATION:Romaneum, Raum 2.05, Brückstr. 1, 41460 Neuss
END:VEVENT
BEGIN:VEVENT
DTSTAMP:20260425T192424
DTSTART;TZID=Europe/Berlin:20261119T183000
DTEND;TZID=Europe/Berlin:20261119T204500
UID:262K701153-20261119T183000@VHSNEUSS
SUMMARY:Comic Portrait zeichnen – Achtsamer Kreativkurs für Einsteiger*innen (262K701153) 
LOCATION:Romaneum, Raum 2.05, Brückstr. 1, 41460 Neuss
END:VEVENT
BEGIN:VEVENT
DTSTAMP:20260425T192424
DTSTART;TZID=Europe/Berlin:20261126T183000
DTEND;TZID=Europe/Berlin:20261126T204500
UID:262K701153-20261126T183000@VHSNEUSS
SUMMARY:Comic Portrait zeichnen – Achtsamer Kreativkurs für Einsteiger*innen (262K701153) 
LOCATION:Romaneum, Raum 2.05, Brückstr. 1, 41460 Neuss
END:VEVENT
BEGIN:VEVENT
DTSTAMP:20260425T192424
DTSTART;TZID=Europe/Berlin:20261203T183000
DTEND;TZID=Europe/Berlin:20261203T204500
UID:262K701153-20261203T183000@VHSNEUSS
SUMMARY:Comic Portrait zeichnen – Achtsamer Kreativkurs für Einsteiger*innen (262K701153) 
LOCATION:Romaneum, Raum 2.05, Brückstr. 1, 41460 Neuss
END:VEVENT
END:VCALENDAR