BEGIN:VCALENDAR
VERSION:2.0
PRODID:https://www.kufer.de/kuferweb / DE
METHOD:PUBLISH
CALSCALE:GREGORIAN
X-WR-TIMEZONE:Europe/Berlin
BEGIN:VTIMEZONE
TZID:Europe/Berlin
X-LIC-LOCATION:Europe/Berlin
BEGIN:DAYLIGHT
TZOFFSETFROM:+0100
TZOFFSETTO:+0200
TZNAME:CEST
DTSTART:19700329T020000
RRULE:FREQ=YEARLY;INTERVAL=1;BYDAY=-1SU;BYMONTH=3
END:DAYLIGHT
BEGIN:STANDARD
TZOFFSETFROM:+0200
TZOFFSETTO:+0100
TZNAME:CET
DTSTART:19701025T030000
RRULE:FREQ=YEARLY;INTERVAL=1;BYDAY=-1SU;BYMONTH=10
END:STANDARD
END:VTIMEZONE
BEGIN:VEVENT
DTSTAMP:20260425T135949
DTSTART;TZID=Europe/Berlin:20261111T091500
DTEND;TZID=Europe/Berlin:20261111T121500
UID:262K701437-20261111T091500@VHSNEUSS
SUMMARY:Malatelier morgens - Acrylmalerei (262K701437) 
LOCATION:Romaneum, Raum 2.21, Brückstr. 1, 41460 Neuss
END:VEVENT
BEGIN:VEVENT
DTSTAMP:20260425T135949
DTSTART;TZID=Europe/Berlin:20261118T091500
DTEND;TZID=Europe/Berlin:20261118T121500
UID:262K701437-20261118T091500@VHSNEUSS
SUMMARY:Malatelier morgens - Acrylmalerei (262K701437) 
LOCATION:Romaneum, Raum 2.21, Brückstr. 1, 41460 Neuss
END:VEVENT
BEGIN:VEVENT
DTSTAMP:20260425T135949
DTSTART;TZID=Europe/Berlin:20261125T091500
DTEND;TZID=Europe/Berlin:20261125T121500
UID:262K701437-20261125T091500@VHSNEUSS
SUMMARY:Malatelier morgens - Acrylmalerei (262K701437) 
LOCATION:Romaneum, Raum 2.21, Brückstr. 1, 41460 Neuss
END:VEVENT
BEGIN:VEVENT
DTSTAMP:20260425T135949
DTSTART;TZID=Europe/Berlin:20261202T091500
DTEND;TZID=Europe/Berlin:20261202T121500
UID:262K701437-20261202T091500@VHSNEUSS
SUMMARY:Malatelier morgens - Acrylmalerei (262K701437) 
LOCATION:Romaneum, Raum 2.21, Brückstr. 1, 41460 Neuss
END:VEVENT
BEGIN:VEVENT
DTSTAMP:20260425T135949
DTSTART;TZID=Europe/Berlin:20261209T091500
DTEND;TZID=Europe/Berlin:20261209T121500
UID:262K701437-20261209T091500@VHSNEUSS
SUMMARY:Malatelier morgens - Acrylmalerei (262K701437) 
LOCATION:Romaneum, Raum 2.21, Brückstr. 1, 41460 Neuss
END:VEVENT
END:VCALENDAR