BEGIN:VCALENDAR
VERSION:2.0
PRODID:https://www.kufer.de/kuferweb / DE
METHOD:PUBLISH
CALSCALE:GREGORIAN
X-WR-TIMEZONE:Europe/Berlin
BEGIN:VTIMEZONE
TZID:Europe/Berlin
X-LIC-LOCATION:Europe/Berlin
BEGIN:DAYLIGHT
TZOFFSETFROM:+0100
TZOFFSETTO:+0200
TZNAME:CEST
DTSTART:19700329T020000
RRULE:FREQ=YEARLY;INTERVAL=1;BYDAY=-1SU;BYMONTH=3
END:DAYLIGHT
BEGIN:STANDARD
TZOFFSETFROM:+0200
TZOFFSETTO:+0100
TZNAME:CET
DTSTART:19701025T030000
RRULE:FREQ=YEARLY;INTERVAL=1;BYDAY=-1SU;BYMONTH=10
END:STANDARD
END:VTIMEZONE
BEGIN:VEVENT
DTSTAMP:20260425T140300
DTSTART;TZID=Europe/Berlin:20261211T163000
DTEND;TZID=Europe/Berlin:20261211T193000
UID:262K701440-20261211T163000@VHSNEUSS
SUMMARY:Malatelier - Eitempera (262K701440) 
LOCATION:Romaneum, Raum 2.21, Brückstr. 1, 41460 Neuss
END:VEVENT
BEGIN:VEVENT
DTSTAMP:20260425T140300
DTSTART;TZID=Europe/Berlin:20261218T163000
DTEND;TZID=Europe/Berlin:20261218T193000
UID:262K701440-20261218T163000@VHSNEUSS
SUMMARY:Malatelier - Eitempera (262K701440) 
LOCATION:Romaneum, Raum 2.21, Brückstr. 1, 41460 Neuss
END:VEVENT
BEGIN:VEVENT
DTSTAMP:20260425T140300
DTSTART;TZID=Europe/Berlin:20270108T163000
DTEND;TZID=Europe/Berlin:20270108T193000
UID:262K701440-20270108T163000@VHSNEUSS
SUMMARY:Malatelier - Eitempera (262K701440) 
LOCATION:Romaneum, Raum 2.21, Brückstr. 1, 41460 Neuss
END:VEVENT
BEGIN:VEVENT
DTSTAMP:20260425T140300
DTSTART;TZID=Europe/Berlin:20270115T163000
DTEND;TZID=Europe/Berlin:20270115T193000
UID:262K701440-20270115T163000@VHSNEUSS
SUMMARY:Malatelier - Eitempera (262K701440) 
LOCATION:Romaneum, Raum 2.21, Brückstr. 1, 41460 Neuss
END:VEVENT
BEGIN:VEVENT
DTSTAMP:20260425T140300
DTSTART;TZID=Europe/Berlin:20270122T163000
DTEND;TZID=Europe/Berlin:20270122T193000
UID:262K701440-20270122T163000@VHSNEUSS
SUMMARY:Malatelier - Eitempera (262K701440) 
LOCATION:Romaneum, Raum 2.21, Brückstr. 1, 41460 Neuss
END:VEVENT
END:VCALENDAR